BEGIN:VCALENDAR
VERSION:2.0
PRODID:-//wp-events-plugin.com//7.2.3.1//EN
TZID:America/New_York
X-WR-TIMEZONE:America/New_York
BEGIN:VEVENT
UID:1180@townofmendonny.gov
DTSTART;TZID=America/New_York:20250806T190000
DTEND;TZID=America/New_York:20250806T210000
DTSTAMP:20250723T124406Z
URL:https://townofmendonny.gov/events/planning-board-meeting-33/
SUMMARY:Planning Board Meeting
DESCRIPTION:PLANNING BOARD AGENDA\nFOR WEDNESDAY\, AUGUST 6\, 2025\nMENDON 
 TOWN HALL\n16 WEST MAIN STREET\nHONEOYE FALLS\, NY 7:00 P.M.\nApprove Minu
 tes from the July 2\, 2025 Planning Board Meeting\n\nLEAR STABLES - SPECIA
 L USE PERMIT\nAmy Rodriguez of Lear Stables located on property at 256 Che
 ese Factory Road\, Honeoye Falls\,\nNY\, for an amendment to her special u
 se permit to extend her riding lesson stable onto the\nabutting property l
 ocated at 280 Cheese Factory Road\, Honeoye Falls\, NY\, consisting of 20.
 19\nacres. Tax account no. 222.03-1-11. Zoned RA-5.\n\nGeneral Discussion\
 nMendon Green HOA Land Transfer to Mendon Foundation\n\nUpcoming Meeting I
 nfo:\nAugust 20\, 2025 – Cancelled unless rehearing is necessary\nSeptem
 ber 3\, 2025 – Crosby’s Site Plan &amp\; Osovski 2-lot Subdivision\n\n
 &nbsp\;\n\nPlease refer to TownofMendon.org for information to attend the 
 meeting via Zoom or to watch it on YouTube.\n\n&nbsp\;
CATEGORIES:Planning Board Meeting
LOCATION:Mendon Town Hall\, 16 West Main Street\, Honeoye Falls\, New York\
 , 14472\, United States
X-APPLE-STRUCTURED-LOCATION;VALUE=URI;X-ADDRESS=16 West Main Street\, Honeo
 ye Falls\, New York\, 14472\, United States;X-APPLE-RADIUS=100;X-TITLE=Men
 don Town Hall:geo:0,0
END:VEVENT
BEGIN:VTIMEZONE
TZID:America/New_York
X-LIC-LOCATION:America/New_York
BEGIN:DAYLIGHT
DTSTART:20250309T030000
TZOFFSETFROM:-0500
TZOFFSETTO:-0400
TZNAME:EDT
END:DAYLIGHT
END:VTIMEZONE
END:VCALENDAR