BEGIN:VCALENDAR
VERSION:2.0
PRODID:-//wp-events-plugin.com//7.2.3.1//EN
TZID:America/New_York
X-WR-TIMEZONE:America/New_York
BEGIN:VEVENT
UID:1170@townofmendonny.gov
DTSTART;TZID=America/New_York:20250416T190000
DTEND;TZID=America/New_York:20250416T210000
DTSTAMP:20250413T163912Z
URL:https://townofmendonny.gov/events/planning-board-meeting-31/
SUMMARY:Planning Board Meeting
DESCRIPTION:PLANNING BOARD AGENDA\nFOR WEDNESDAY\, APRIL 16\, 2025\nMENDON 
 TOWN HALL\n16 WEST MAIN STREET\nHONEOYE FALLS\, NY 7:00 P.M.\nApprove Minu
 tes from the April 2\, 2025 Planning Board Meeting\n\nRG&amp\;E MENDON GAT
 E STATION – UPDATE PROJECT\nRochester Gas and Electric\, 180 South Clint
 on Avenue Rochester\, NY 14604 for a special use permit to\ncontinue use a
 s purchase point for natural gas and distribution to customers in the RGE 
 franchise area\,\nand upgrade station equipment and site features on prope
 rty located on 274 Canfield Road\, Honeoye\nFalls\, NY\, consisting of 4.6
 95 acres. Tax account no. 192.03-1-12.22. Zoned RA-5.\n\nGeneral Discussio
 n\n\nUpcoming Meeting Info:\nMay 7 th – CAWLEY SITE PLAN\n\nPlease refer
  to TownofMendon.org for information to attend the meeting via Zoom or to 
 watch it on\nYouTube.
CATEGORIES:Planning Board Meeting
LOCATION:Mendon Town Hall\, 16 West Main Street\, Honeoye Falls\, New York\
 , 14472\, United States
X-APPLE-STRUCTURED-LOCATION;VALUE=URI;X-ADDRESS=16 West Main Street\, Honeo
 ye Falls\, New York\, 14472\, United States;X-APPLE-RADIUS=100;X-TITLE=Men
 don Town Hall:geo:0,0
END:VEVENT
BEGIN:VTIMEZONE
TZID:America/New_York
X-LIC-LOCATION:America/New_York
BEGIN:DAYLIGHT
DTSTART:20250309T030000
TZOFFSETFROM:-0500
TZOFFSETTO:-0400
TZNAME:EDT
END:DAYLIGHT
END:VTIMEZONE
END:VCALENDAR