BEGIN:VCALENDAR
VERSION:2.0
PRODID:-//wp-events-plugin.com//7.2.3.1//EN
TZID:America/New_York
X-WR-TIMEZONE:America/New_York
BEGIN:VEVENT
UID:124@townofmendonny.gov
DTSTART;TZID=America/New_York:20230201T190000
DTEND;TZID=America/New_York:20230201T210000
DTSTAMP:20230120T164857Z
URL:https://townofmendonny.gov/events/planning-board-meeting-3/
SUMMARY:Planning Board Meeting
DESCRIPTION:PLANNING BOARD AGENDA\nFOR WEDNESDAY\, FEBRUARY 1\, 2023\nMENDO
 N TOWN HALL\n16 WEST MAIN STREET\nHoneoye Falls\, NY\n7:00 P.M.\nBATTERSON
  SUBDIVISON AND BATTLE SITE PLANS PUBLIC HEARING\nBattle Construction\, 10
  Assembly Drive\, Mendon\, for a three-lot subdivision and site plans on t
 wo of the\nlots at property located on Taylor Road\, Honeoye Falls in the 
 town of Mendon\, owned by Scott Batterson\,\n14 South Avenue\, Fairport\, 
 NY\, Zoned RA-1. Tax account no. 217.03-1-1.12.\n\nPublic Comment\nGeneral
  Discussion\nUpcoming Meeting Info\n\nPlease refer to TownofMendon.org for
  information to attend the meeting via Zoom or to watch it on\nYouTube.
CATEGORIES:Planning Board Meeting
LOCATION:Mendon Town Hall\, 16 West Main Street\, Honeoye Falls\, New York\
 , 14472\, United States
X-APPLE-STRUCTURED-LOCATION;VALUE=URI;X-ADDRESS=16 West Main Street\, Honeo
 ye Falls\, New York\, 14472\, United States;X-APPLE-RADIUS=100;X-TITLE=Men
 don Town Hall:geo:0,0
END:VEVENT
BEGIN:VTIMEZONE
TZID:America/New_York
X-LIC-LOCATION:America/New_York
BEGIN:STANDARD
DTSTART:20221106T010000
TZOFFSETFROM:-0400
TZOFFSETTO:-0500
TZNAME:EST
END:STANDARD
END:VTIMEZONE
END:VCALENDAR