BEGIN:VCALENDAR
VERSION:2.0
PRODID:-//wp-events-plugin.com//7.2.3.1//EN
TZID:America/New_York
X-WR-TIMEZONE:America/New_York
BEGIN:VEVENT
UID:1156@townofmendonny.gov
DTSTART;TZID=America/New_York:20250115T190000
DTEND;TZID=America/New_York:20250115T210000
DTSTAMP:20250108T164145Z
URL:https://townofmendonny.gov/events/planning-board-meeting-28/
SUMMARY:Planning Board Meeting
DESCRIPTION:PLANNING BOARD AGENDA\nFOR WEDNESDAY\, January 15\, 2025\nMENDO
 N TOWN HALL\n16 WEST MAIN STREET\nHONEOYE FALLS\, NY\n7:00 P.M.\nApprove M
 inutes from the December 18\, 2024 Planning Board Meeting\n\nWALLMAN SITE 
 PLAN\nLaura Wallman\, 2 Preston Circle\, Pittsford\, NY\, for a Site Plan 
 approval on property located on Mile\nSquare Road\, Mendon\, NY\, consisti
 ng of 10 acres and will contain new home\, accessory structure\, septic\ns
 ystem and driveway. Tax account no. 192.04-1-53. Zoned RA-5.\n\nCANFIELD V
 ET\, DOG &amp\; CAT HOSPITAL – SPECIAL USE PERMIT\nMendon Village Animal
  Care for a special use permit to continue business operations as Canfield
  Vet\,\nDog and Cat Hospital under new business ownership on property loca
 ted on 122 Canfield Road\, Pittsford\,\nNY\, consisting of 6.54 acres. Tax
  account no. 19.03-1-5.2. Zoned RA-5.\n\nMITTEN SUVDIVISION &amp\;amp\; SI
 TE PLAN\nDavid and Paula Mitten\, 8 Lawden Woods\, Henrietta\, NY 14467\, 
 for a three- lot subdivision and site plan\napproval on property located a
 t 3741 Clover Street\, Honeoye Falls\, NY\, consisting of 38.89 acres. Lot
 s 1\n&amp\;amp\; 2 comply with RA-5 zoning and will contain new homes\, se
 ptic systems and driveways\, Lot 3 will\ncontain 27.89 acres with minor co
 nstruction. Tax account no. 190.04-2-1.22 and 190.044.2-1.21. Zoned\nRA-5.
 \n\nPublic Hearing\n\nPublic Comment\n\nGeneral Discussion\n\nBrendan Byst
 rek – RG&amp\;E\n\nUpcoming Meeting Info:\nFebruary 5 - Cancelled unless
  a rehearing is needed.\n\nPlease refer to TownofMendon.org for informatio
 n to attend the meeting via Zoom or to watch it on\nYouTube.
CATEGORIES:Planning Board Meeting
LOCATION:Mendon Town Hall\, 16 West Main Street\, Honeoye Falls\, New York\
 , 14472\, United States
X-APPLE-STRUCTURED-LOCATION;VALUE=URI;X-ADDRESS=16 West Main Street\, Honeo
 ye Falls\, New York\, 14472\, United States;X-APPLE-RADIUS=100;X-TITLE=Men
 don Town Hall:geo:0,0
END:VEVENT
BEGIN:VTIMEZONE
TZID:America/New_York
X-LIC-LOCATION:America/New_York
BEGIN:STANDARD
DTSTART:20241103T010000
TZOFFSETFROM:-0400
TZOFFSETTO:-0500
TZNAME:EST
END:STANDARD
END:VTIMEZONE
END:VCALENDAR