BEGIN:VCALENDAR
VERSION:2.0
PRODID:-//wp-events-plugin.com//7.2.3.1//EN
TZID:America/New_York
X-WR-TIMEZONE:America/New_York
BEGIN:VEVENT
UID:635@townofmendonny.gov
DTSTART;TZID=America/New_York:20231018T190000
DTEND;TZID=America/New_York:20231018T210000
DTSTAMP:20231016T170039Z
URL:https://townofmendonny.gov/events/planning-board-meeting-27/
SUMMARY:Planning Board Meeting
DESCRIPTION:Approve Minutes from October 4\, 2023 Planning Board Meeting\n\
 nBATTERSON SUBDIVISION PHASE III PUBLIC HEARING\nScott Batterson\, 28 Wood
  Run Commons\, Rochester\, NY\, for a five-lot subdivision on property loc
 ated on\nthe corner of Mile Square Road and Taylor Road\, Mendon\, NY\, co
 nsisting of 76.82 acres. Tax account no.\n217.03-1-1.12. Zoned RA-1.\n\nBA
 TTERSON SUBDIVISON AND BATTLE SITE PLANS PUBLIC HEARING\nBattle Constructi
 on\, 10 Assembly Drive\, Mendon\, for a three-lot subdivision and site pla
 ns on two of the\nlots utilizing a total of 2.68 acres of property located
  on Taylor Road\, Mendon\, NY owned by Scott\nBatterson\, 28 Wood Run Comm
 ons\, Rochester\, NY. Tax account no. 217.03-1-1.12. Zoned RA-1.\n\nRIDGEC
 REST SITE PLAN\nNicholas Coglitore of Ridgecrest Development\, PO Box 2645
 \, Rochester\, NY for a site plan on property\nto be 1.033 acres located o
 n Taylor Road\, Mendon\, NY\, owned by Scott Batterson\, 28 Wood Run\nComm
 ons\, Rochester\, NY. Tax account no.217.03-1-1.12. Zoned RA-1.\n\nPublic 
 Comment\n\nGeneral Discussion\n\nUpcoming Meeting Info:\n11/1/23 – Donal
 dson Site Plan Second Appearance\n11/15 – Salviski Site Plan\n\nPlease r
 efer to TownofMendon.org for information to attend the meeting via Zoom or
  to watch it on\nYouTube.
CATEGORIES:Planning Board Meeting
LOCATION:Mendon Town Hall\, 16 West Main Street\, Honeoye Falls\, New York\
 , 14472\, United States
X-APPLE-STRUCTURED-LOCATION;VALUE=URI;X-ADDRESS=16 West Main Street\, Honeo
 ye Falls\, New York\, 14472\, United States;X-APPLE-RADIUS=100;X-TITLE=Men
 don Town Hall:geo:0,0
END:VEVENT
BEGIN:VTIMEZONE
TZID:America/New_York
X-LIC-LOCATION:America/New_York
BEGIN:DAYLIGHT
DTSTART:20230312T030000
TZOFFSETFROM:-0500
TZOFFSETTO:-0400
TZNAME:EDT
END:DAYLIGHT
END:VTIMEZONE
END:VCALENDAR