BEGIN:VCALENDAR
VERSION:2.0
PRODID:-//wp-events-plugin.com//7.2.3.1//EN
TZID:America/New_York
X-WR-TIMEZONE:America/New_York
BEGIN:VEVENT
UID:614@townofmendonny.gov
DTSTART;TZID=America/New_York:20230719T190000
DTEND;TZID=America/New_York:20230719T210000
DTSTAMP:20230712T175425Z
URL:https://townofmendonny.gov/events/planning-board-meeting-25/
SUMMARY:Planning Board Meeting
DESCRIPTION:PLANNING BOARD AGENDA\nFOR WEDNESDAY\, JULY 19\, 2023\n\nApprov
 e Minutes from June 21\, 2023 Planning Board Meeting\n\nHAFFEN SITE PLAN\n
 Douglas Haffen\, 857 West Bloomfield Road\, consisting of 7.06 acres\, for
  site plan approval on said\nproperty for a 12’x20’ prefabricated shed
  placed forward of the front of the home and therefore\, requires\nsite pl
 an approval. Tax account no. 205.03-1-11.2. Zoned RA-5.\n\nEQUICENTER SPEC
 IAL USE PERMIT AMENDMENT PUBLIC HEARING CONTINUATION\nThe Equicenter\, 324
 7 Rush Mendon Road\, Honeoye Falls\, for a special use permit amendment fo
 r site\nplan approval to expand the south barn 16\,000 square feet\, provi
 de a 30-foot wide trail connection\neasement on the southwest corner of th
 e property\, south of the Lehigh Valley Trail\, to Semmel Road Park\nto al
 low Mendon residents direct access to the new recreational area directly f
 rom the rail bed\, and to\nincrease the number of participants in the Equi
 center programming from six to 50 at any given time on\ntheir property at 
 3247 Rush Mendon Road\, Honeoye Falls\, consisting of 200 acres. Tax accou
 nt no.\n215.03-1-6.1. Zoned RA-1.\n\nPublic Comment\n\nGeneral Discussion\
 n\nUpcoming Meeting Info:\n8/2 – Koschnick SUP Public Hearing\nand\n– 
 Mike Silverole Site Plan\n8/16 – Miller Subdivision and Site Plan Public
  Hearing\nand\n– Kailbourne Site Plan\n\nPlease refer to TownofMendon.or
 g for information to attend the meeting via Zoom or to watch it on\nYouTub
 e.
CATEGORIES:Planning Board Meeting
LOCATION:Mendon Town Hall\, 16 West Main Street\, Honeoye Falls\, New York\
 , 14472\, United States
X-APPLE-STRUCTURED-LOCATION;VALUE=URI;X-ADDRESS=16 West Main Street\, Honeo
 ye Falls\, New York\, 14472\, United States;X-APPLE-RADIUS=100;X-TITLE=Men
 don Town Hall:geo:0,0
END:VEVENT
BEGIN:VTIMEZONE
TZID:America/New_York
X-LIC-LOCATION:America/New_York
BEGIN:DAYLIGHT
DTSTART:20230312T030000
TZOFFSETFROM:-0500
TZOFFSETTO:-0400
TZNAME:EDT
END:DAYLIGHT
END:VTIMEZONE
END:VCALENDAR