BEGIN:VCALENDAR
VERSION:2.0
PRODID:-//wp-events-plugin.com//7.2.3.1//EN
TZID:America/New_York
X-WR-TIMEZONE:America/New_York
BEGIN:VEVENT
UID:143@townofmendonny.gov
DTSTART;TZID=America/New_York:20231101T190000
DTEND;TZID=America/New_York:20231101T210000
DTSTAMP:20231026T173048Z
URL:https://townofmendonny.gov/events/planning-board-meeting-22/
SUMMARY:Planning Board Meeting
DESCRIPTION:Approve Minutes from October 18\, 2023 Planning Board Meeting\n
 \nDONALDSON\, JR. SITE PLAN SECOND APPEARANCE\nScott Donaldson\, Jr\, 140 
 East Street\, Honeoye Falls\, for site plan approval to build a 4\,000 squ
 are foot\nbarn located forward of the front of the home for property locat
 ed at 50 Lanning Road\, Honeoye Falls\,\nNY\, consisting of 26.68 acres. T
 ax account no. 223.01-1-33. Zoned RA-5.\n\nPublic Comment\nGeneral Discuss
 ion\nUpcoming Meeting Info:\nNovember 15\, 2023 – Salviski Site Plan –
  Smith Road\n\nPlease refer to TownofMendon.org for information to attend 
 the meeting via Zoom or to watch it on\nYouTube.
CATEGORIES:Planning Board Meeting
LOCATION:Mendon Town Hall\, 16 West Main Street\, Honeoye Falls\, New York\
 , 14472\, United States
X-APPLE-STRUCTURED-LOCATION;VALUE=URI;X-ADDRESS=16 West Main Street\, Honeo
 ye Falls\, New York\, 14472\, United States;X-APPLE-RADIUS=100;X-TITLE=Men
 don Town Hall:geo:0,0
END:VEVENT
BEGIN:VTIMEZONE
TZID:America/New_York
X-LIC-LOCATION:America/New_York
BEGIN:DAYLIGHT
DTSTART:20230312T030000
TZOFFSETFROM:-0500
TZOFFSETTO:-0400
TZNAME:EDT
END:DAYLIGHT
END:VTIMEZONE
END:VCALENDAR