BEGIN:VCALENDAR
VERSION:2.0
PRODID:-//wp-events-plugin.com//7.2.3.1//EN
TZID:America/New_York
X-WR-TIMEZONE:America/New_York
BEGIN:VEVENT
UID:1122@townofmendonny.gov
DTSTART;TZID=America/New_York:20241106T190000
DTEND;TZID=America/New_York:20241106T210000
DTSTAMP:20241031T140915Z
URL:https://townofmendonny.gov/events/planning-board-meeting-2024-11-06/
SUMMARY:Planning Board Meeting
DESCRIPTION:PLANNING BOARD AGENDA\nFOR WEDNESDAY\, November 6th\, 2024\nMEN
 DON TOWN HALL\n16 WEST MAIN STREET\nHONEOYE FALLS\, NY 7:00 P.M.\nApprove 
 Minutes from the June 26th\, 2024 Planning Board Meeting\n\nApprove Minute
 s from the October 16th\, 2024 Planning Board Meeting\n\nCONKLIN SITE PLAN
  (STONY RIDGE)\nGregory Conklin\, 15 Tobey Woods\, Pittsford\, for site pl
 an\; EPOD Permit approval for property located on\nStony Ridge Drive\, Hon
 eoye Falls\, containing 6.51 acres. Tax account no. 204.040-1-046.1\, zone
 d RA-5.\n\nBATTERSON SUBDIVISION PHASE III RESUBMIT (TAYLOR RD)\nScott Bat
 terson\, 28 Wood Run Commons\, Rochester NY\, for a five–lot subdivision
  and Site Plan\napproval on property located on Miles Square Road\, Honeoy
 e Falls\, consisting of 74.11 acres. Tax\naccount no. 217.030-01-1.12\, zo
 ned RA-1.\n\nPublic Comment\n\nGeneral Discussion\n\nPatricia Brown and Jo
 nathan Friedlander will appear for an informal discussion in regard to a S
 pecial\nUse Permit for an Equestrian Facility.\n\nUpcoming Meeting Info:\n
 \nPlease refer to TownofMendon.org for information to attend the meeting v
 ia Zoom or watch it on YouTube.
CATEGORIES:Planning Board Meeting
LOCATION:Mendon Town Hall\, 16 West Main Street\, Honeoye Falls\, New York\
 , 14472\, United States
X-APPLE-STRUCTURED-LOCATION;VALUE=URI;X-ADDRESS=16 West Main Street\, Honeo
 ye Falls\, New York\, 14472\, United States;X-APPLE-RADIUS=100;X-TITLE=Men
 don Town Hall:geo:0,0
END:VEVENT
BEGIN:VTIMEZONE
TZID:America/New_York
X-LIC-LOCATION:America/New_York
BEGIN:STANDARD
DTSTART:20241103T010000
TZOFFSETFROM:-0400
TZOFFSETTO:-0500
TZNAME:EST
END:STANDARD
END:VTIMEZONE
END:VCALENDAR