BEGIN:VCALENDAR
VERSION:2.0
PRODID:-//wp-events-plugin.com//7.2.3.1//EN
TZID:America/New_York
X-WR-TIMEZONE:America/New_York
BEGIN:VEVENT
UID:1121@townofmendonny.gov
DTSTART;TZID=America/New_York:20241002T190000
DTEND;TZID=America/New_York:20241002T210000
DTSTAMP:20240925T132232Z
URL:https://townofmendonny.gov/events/planning-board-meeting-2024-10-02/
SUMMARY:Planning Board Meeting
DESCRIPTION:PLANNING BOARD AGENDA\nFOR WEDNESDAY\, October 2nd\, 2024\n7:00
  P.M.\nApprove Minutes from the July 17th\, 2024 Planning Board Meeting\n\
 nCONIDORIO – (RIDGECREST) SITE PLAN \n\nJoe &amp\; Roberta Conidorio\, 2
 5 Killdeer Lane\, Fairport\, for site plan approval for property located o
 n Taylor Road\, Honeoye Falls\, containing 1.033 acres. Tax account no. 21
 7.03-1-1.123\, zoned RA-1.\n\nPublic Comment\n\nGeneral Discussion\n\nUpco
 ming Meeting Info:\n\n 	October 16\, 2024:   Stony Ridge – Conklin Sit
 e Plan \n 	October 16. 2024: Cheese Factory – Altier Subdivision  \n\nP
 lease refer to TownofMendon.org for information to attend the meeting via 
 Zoom or to watch it on YouTube.\n\n&nbsp\;
CATEGORIES:Planning Board Meeting
LOCATION:Mendon Town Hall\, 16 West Main Street\, Honeoye Falls\, New York\
 , 14472\, United States
X-APPLE-STRUCTURED-LOCATION;VALUE=URI;X-ADDRESS=16 West Main Street\, Honeo
 ye Falls\, New York\, 14472\, United States;X-APPLE-RADIUS=100;X-TITLE=Men
 don Town Hall:geo:0,0
END:VEVENT
BEGIN:VTIMEZONE
TZID:America/New_York
X-LIC-LOCATION:America/New_York
BEGIN:DAYLIGHT
DTSTART:20240310T030000
TZOFFSETFROM:-0500
TZOFFSETTO:-0400
TZNAME:EDT
END:DAYLIGHT
END:VTIMEZONE
END:VCALENDAR