BEGIN:VCALENDAR
VERSION:2.0
PRODID:-//wp-events-plugin.com//7.2.3.1//EN
TZID:America/New_York
X-WR-TIMEZONE:America/New_York
BEGIN:VEVENT
UID:1116@townofmendonny.gov
DTSTART;TZID=America/New_York:20240501T190000
DTEND;TZID=America/New_York:20240501T210000
DTSTAMP:20240426T185010Z
URL:https://townofmendonny.gov/events/planning-board-meeting-2024-05-01/
SUMMARY:Planning Board Meeting
DESCRIPTION:Approve Minutes from the April 17\, 2024 Planning Board Meeting
 \n\nROACHE SPECIAL USE PERMIT PUBLIC HEARING\nPatrick Roache\, 17 Cambridg
 e Court\, Fairport\, NY 14450\, for a special use permit to operate Pat’
 s Pigs\nRestaurant at property owned by ALSL Enterprises\, 8242 East Bluff
  Drive\, Penn Yan\, NY 14527\, located\non 5 Assembly Drive\, Mendon\, NY\
 , consisting of 1 acre. Tax account no. 216.02-1-1.3. Zoned Business.\n\nP
 ublic Comment\n\nGeneral Discussion\n\nUpcoming Meeting Info:\nMay 15\, 20
 21 – Osovski Subdivision Public Hearing\nFerraro Site Plan\nJune 5\, 202
 4 – Canceled\, unless rehearing needed.\n\nPlease refer to TownofMendon.
 org for information to attend the meeting via Zoom or to watch it on\nYouT
 ube.
CATEGORIES:Planning Board Meeting
LOCATION:Mendon Town Hall\, 16 West Main Street\, Honeoye Falls\, New York\
 , 14472\, United States
X-APPLE-STRUCTURED-LOCATION;VALUE=URI;X-ADDRESS=16 West Main Street\, Honeo
 ye Falls\, New York\, 14472\, United States;X-APPLE-RADIUS=100;X-TITLE=Men
 don Town Hall:geo:0,0
END:VEVENT
BEGIN:VTIMEZONE
TZID:America/New_York
X-LIC-LOCATION:America/New_York
BEGIN:DAYLIGHT
DTSTART:20240310T030000
TZOFFSETFROM:-0500
TZOFFSETTO:-0400
TZNAME:EDT
END:DAYLIGHT
END:VTIMEZONE
END:VCALENDAR