BEGIN:VCALENDAR
VERSION:2.0
PRODID:-//wp-events-plugin.com//7.2.3.1//EN
TZID:America/New_York
X-WR-TIMEZONE:America/New_York
BEGIN:VEVENT
UID:141@townofmendonny.gov
DTSTART;TZID=America/New_York:20231115T190000
DTEND;TZID=America/New_York:20231115T210000
DTSTAMP:20231114T135913Z
URL:https://townofmendonny.gov/events/planning-board-meeting-20/
SUMMARY:Planning Board Meeting
DESCRIPTION:PLANNING BOARD AGENDA\nFOR WEDNESDAY\, NOVEMBER 15\, 2023\nMEND
 ON TOWN HALL\n16 WEST MAIN STREET\nHONEOYE FALLS\, NY 7:00 P.M.\nApprove M
 inutes from November 1\, 2023 Planning Board Meeting\n\nDONALDSON SITE PLA
 N LETTER OF CREDIT RECONSIDERATION AND DISCUSSION\nScott Donaldson\, Jr\, 
 140 East Street\, Honeoye Falls\, was granted site plan approval to build 
 a 4\,000\nsquare foot barn located forward of the front of the home. The D
 onaldson Site Plan Resolution stated Mr.\nDonaldson is to supply the Town 
 of Mendon with an irrevocable letter of credit for $10\,000 for a\nlandsca
 ping buffer for property located at 50 Lanning Road\, Honeoye Falls\, NY\,
  consisting of 26.68\nacres. Tax account no. 223.01-1-33. Zoned RA-5. Mr. 
 Donaldson requests planting the landscape buffer\nnow in lieu of the lette
 r of credit.\n\nSALVISKI SITE PLAN\nJames Salviski\, 342 Smith Road\, Pitt
 sford\, NY\, consisting of 10 acres\, for a 5\,000 square-foot storage\nba
 rn forward of the front of the home. Zoned RA-5. Tax account no. 205.01-1-
 9.31.\n\nPublic Comment\nGeneral Discussion\nUpcoming Meeting Info:\nDecem
 ber 6\, 2023 – Canceled\, as there are currently no agenda items.\n\nPle
 ase refer to TownofMendon.org for information to attend the meeting via Zo
 om or to watch it on\nYouTube.
CATEGORIES:Planning Board Meeting
LOCATION:Mendon Town Hall\, 16 West Main Street\, Honeoye Falls\, New York\
 , 14472\, United States
X-APPLE-STRUCTURED-LOCATION;VALUE=URI;X-ADDRESS=16 West Main Street\, Honeo
 ye Falls\, New York\, 14472\, United States;X-APPLE-RADIUS=100;X-TITLE=Men
 don Town Hall:geo:0,0
END:VEVENT
BEGIN:VTIMEZONE
TZID:America/New_York
X-LIC-LOCATION:America/New_York
BEGIN:STANDARD
DTSTART:20231105T010000
TZOFFSETFROM:-0400
TZOFFSETTO:-0500
TZNAME:EST
END:STANDARD
END:VTIMEZONE
END:VCALENDAR