BEGIN:VCALENDAR
VERSION:2.0
PRODID:-//wp-events-plugin.com//7.2.3.1//EN
TZID:America/New_York
X-WR-TIMEZONE:America/New_York
BEGIN:VEVENT
UID:1044@townofmendonny.gov
DTSTART;TZID=America/New_York:20241218T190000
DTEND;TZID=America/New_York:20241218T210000
DTSTAMP:20241203T160623Z
URL:https://townofmendonny.gov/events/planning-board-meeting-2-2024-12-18/
SUMMARY:Planning Board Meeting
DESCRIPTION:PLANNING BOARD AGENDA\nFOR WEDNESDAY\, December 18th \, 2024\nM
 ENDON TOWN HALL\n16 WEST MAIN STREET\nHONEOYE FALLS\, NY 7:00 P.M.\nApprov
 e Minutes from the November 20th\, 2024 Planning Board Meeting\n\nMITTEN S
 UBDIVISION &amp\; SITE PLAN\nDavid and Paula Mitten\, 8 Lawden Woods\, Hen
 rietta\, NY 14467\, for a three-lot subdivision and site plan\napproval on
  property located at 3741 Clover Street\, Honeoye Falls\, NY\, consisting 
 of 38.89 acres. Lots 1\n&amp\;amp\; 2 comply with RA-5 zoning and will con
 tain new homes\, septic systems and driveways\, Lot 3 will\ncontain 27.89 
 acres with minor construction. Tax account no. 190.04-2-1.22 and 190.044.2
 -1.21. Zoned\nRA-5\n\nEQUUSTRONG SPECIAL USE PERMIT\nEquuStrong\, 7647 Mai
 n Street Fishers\, Victor\, NY 14564\, for a Special Use Permit to provide
  Equestrian\nand Nature – Based experiences to individuals in need\, on 
 property located at 951 Pittsford Mendon\nRoad\, Pittsford\, NY 14534\, co
 nsisting of 98.25 acres. Tax account no. 192.03-1-14. Zoned RA-5.\n\nPubli
 c Hearing\nPublic Comment\nGeneral Discussion\n\nUpcoming Meeting Info:\nJ
 anuary 1 st\, 2024 – Cancelled\n\nPlease refer to TownofMendon.org for i
 nformation to attend the meeting via Zoom or to watch it on\nYouTube.
CATEGORIES:Planning Board Meeting
LOCATION:Mendon Town Hall\, 16 West Main Street\, Honeoye Falls\, New York\
 , 14472\, United States
X-APPLE-STRUCTURED-LOCATION;VALUE=URI;X-ADDRESS=16 West Main Street\, Honeo
 ye Falls\, New York\, 14472\, United States;X-APPLE-RADIUS=100;X-TITLE=Men
 don Town Hall:geo:0,0
END:VEVENT
BEGIN:VTIMEZONE
TZID:America/New_York
X-LIC-LOCATION:America/New_York
BEGIN:STANDARD
DTSTART:20241103T010000
TZOFFSETFROM:-0400
TZOFFSETTO:-0500
TZNAME:EST
END:STANDARD
END:VTIMEZONE
END:VCALENDAR