BEGIN:VCALENDAR
VERSION:2.0
PRODID:-//wp-events-plugin.com//7.2.3.1//EN
TZID:America/New_York
X-WR-TIMEZONE:America/New_York
BEGIN:VEVENT
UID:1043@townofmendonny.gov
DTSTART;TZID=America/New_York:20241120T190000
DTEND;TZID=America/New_York:20241120T210000
DTSTAMP:20241114T175641Z
URL:https://townofmendonny.gov/events/planning-board-meeting-2-2024-11-20/
SUMMARY:Planning Board Meeting
DESCRIPTION:PLANNING BOARD AGENDA\nFOR WEDNESDAY\, November 20th\, 2024\nME
 NDON TOWN HALL\n16 WEST MAIN STREET\nHONEOYE FALLS\, NY 7:00 P.M.\nApprove
  Minutes from the November 6th\, 2024 Planning Board Meeting\n\nCONKLIN SI
 TE PLAN (STONY RIDGE)\nGregory Conklin\, 15 Tobey Woods\, Pittsford\, for 
 site plan\; EPOD Permit approval for property located on\nStony Ridge Driv
 e\, Honeoye Falls\, containing 6.51 acres. Tax account no. 204.040-1-046.1
 \, zoned RA-5.\n\nPublic Hearing\nPublic Comment\nGeneral Discussion\nUpco
 ming Meeting Info:\nDecember 4th\, 2024 - Mitten Subdivision\; Site Plans\
 n\nPlease refer to TownofMendon.org for information to attend the meeting 
 via Zoom or to watch it on\nYouTube.
CATEGORIES:Planning Board Meeting
LOCATION:Mendon Town Hall\, 16 West Main Street\, Honeoye Falls\, New York\
 , 14472\, United States
X-APPLE-STRUCTURED-LOCATION;VALUE=URI;X-ADDRESS=16 West Main Street\, Honeo
 ye Falls\, New York\, 14472\, United States;X-APPLE-RADIUS=100;X-TITLE=Men
 don Town Hall:geo:0,0
END:VEVENT
BEGIN:VTIMEZONE
TZID:America/New_York
X-LIC-LOCATION:America/New_York
BEGIN:STANDARD
DTSTART:20241103T010000
TZOFFSETFROM:-0400
TZOFFSETTO:-0500
TZNAME:EST
END:STANDARD
END:VTIMEZONE
END:VCALENDAR