BEGIN:VCALENDAR
VERSION:2.0
PRODID:-//wp-events-plugin.com//7.2.3.1//EN
TZID:America/New_York
X-WR-TIMEZONE:America/New_York
BEGIN:VEVENT
UID:1042@townofmendonny.gov
DTSTART;TZID=America/New_York:20241016T190000
DTEND;TZID=America/New_York:20241016T210000
DTSTAMP:20241010T132643Z
URL:https://townofmendonny.gov/events/planning-board-meeting-2-2024-10-16/
SUMMARY:Planning Board Meeting
DESCRIPTION:Approve Minutes from the October 2\, 2024 Planning Board Meetin
 g\n\nRe-Approve October 2\, 2024 Planning Board Application – CONDIDORIO
  SITE PLAN AMENDMENT\n\nCONKLIN SITE PLAN (STONY RIDGE)\nGregory Conklin\,
  15 Tobey Woods\, Pittsford\, for site plan approval for property located 
 on Stony Ridge\nDrive\, Honeoye Falls\, containing 6.51 acres. Tax account
  no. 204.040-1-046.1\, zoned RA-5.\n\nALTIER SUBDIVISION (CHEESE FACTORY R
 D)\nRichard Altier\, 1117 Cheese Factory Road\, Honeoye Falls\, for a two
 –lot subdivision on property located\nat 1117 Cheese Factory Road\, Hone
 oye Falls\, consisting of 51.977 acres and 10.419 acres. Tax account\nno. 
 223.020-1-054.1\, zoned RA-1.\n\nPublic Comment\n\nGeneral Discussion\n\nU
 pcoming Meeting Info:\nNovember 6\, 2024 – Batterson Subdivision Phase I
 II Resubmit\n\nPlease refer to TownofMendon.org for information to attend 
 the meeting via Zoom or to watch it on\nYouTube.
CATEGORIES:Planning Board Meeting
LOCATION:Mendon Town Hall\, 16 West Main Street\, Honeoye Falls\, New York\
 , 14472\, United States
X-APPLE-STRUCTURED-LOCATION;VALUE=URI;X-ADDRESS=16 West Main Street\, Honeo
 ye Falls\, New York\, 14472\, United States;X-APPLE-RADIUS=100;X-TITLE=Men
 don Town Hall:geo:0,0
END:VEVENT
BEGIN:VTIMEZONE
TZID:America/New_York
X-LIC-LOCATION:America/New_York
BEGIN:DAYLIGHT
DTSTART:20240310T030000
TZOFFSETFROM:-0500
TZOFFSETTO:-0400
TZNAME:EDT
END:DAYLIGHT
END:VTIMEZONE
END:VCALENDAR