BEGIN:VCALENDAR
VERSION:2.0
PRODID:-//wp-events-plugin.com//7.2.3.1//EN
TZID:America/New_York
X-WR-TIMEZONE:America/New_York
BEGIN:VEVENT
UID:1039@townofmendonny.gov
DTSTART;TZID=America/New_York:20240717T190000
DTEND;TZID=America/New_York:20240717T210000
DTSTAMP:20240713T143344Z
URL:https://townofmendonny.gov/events/planning-board-meeting-2-2024-07-17/
SUMMARY:Planning Board Meeting
DESCRIPTION: \nPLANNING BOARD AGENDA\nFOR WEDNESDAY\, JULY 17\, 2024\nMEND
 ON TOWN HALL\n16 WEST MAIN STREET\nHONEOYE FALLS\, NY\n7:00 P.M.\n&nbsp\;\
 n\nApprove Minutes from the June 26\, 2024 Planning Board Meeting\n\n \n\
 nPOWELL SPECIAL USE PERMIT RENEWAL PUBLIC HEARING\n\nRobert Powell\, 1275 
 West Bloomfield Road\, Honeoye Falls\, requesting to renew his special use
  permit at 1275 West Bloomfield\, containing 9 acres\, to run a business t
 raining and boarding up to eight dogs in his barn for veterans and the com
 munity on said property. Tax account no. 223.01-1-9\, zoned RA-1.\n\nPubli
 c Comment\n\nGeneral Discussion\n\nUpcoming Meeting Info:\n\nAugust 7\, 20
 24 – Canceled unless rehearing needed \n\n&nbsp\;\n\nPlease refer to Tow
 nofMendon.org for information to attend the meeting via Zoom or to watch i
 t on YouTube.
CATEGORIES:Planning Board Meeting
LOCATION:Mendon Town Hall\, 16 West Main Street\, Honeoye Falls\, New York\
 , 14472\, United States
X-APPLE-STRUCTURED-LOCATION;VALUE=URI;X-ADDRESS=16 West Main Street\, Honeo
 ye Falls\, New York\, 14472\, United States;X-APPLE-RADIUS=100;X-TITLE=Men
 don Town Hall:geo:0,0
END:VEVENT
BEGIN:VTIMEZONE
TZID:America/New_York
X-LIC-LOCATION:America/New_York
BEGIN:DAYLIGHT
DTSTART:20240310T030000
TZOFFSETFROM:-0500
TZOFFSETTO:-0400
TZNAME:EDT
END:DAYLIGHT
END:VTIMEZONE
END:VCALENDAR