BEGIN:VCALENDAR
VERSION:2.0
PRODID:-//wp-events-plugin.com//7.2.3.1//EN
TZID:America/New_York
X-WR-TIMEZONE:America/New_York
BEGIN:VEVENT
UID:1038@townofmendonny.gov
DTSTART;TZID=America/New_York:20240626T190000
DTEND;TZID=America/New_York:20240626T210000
DTSTAMP:20240611T175628Z
URL:https://townofmendonny.gov/events/planning-board-meeting-2-2024-06-19/
SUMMARY:Planning Board Meeting
DESCRIPTION:Approve Minutes from the May 15\, 2024 Planning Board Meeting\n
 \n \n\nFERRARO SITE PLAN – SECOND APPEARANCE\n\nBrian and Rachel Ferrar
 o\, 11 Papermill Street\, Honeoye Falls\, for site plan approval to rebuil
 d their single-family home destroyed by a fire at 2785 Rush Mendon Road\, 
 Mendon\, NY. Tax account number: 214.03-2-2. Zoned RA-1.\n\n \n\nPublic C
 omment\n\n&nbsp\;\n\nGeneral Discussion\n\n&nbsp\;\n\nUpcoming Meeting Inf
 o:\n\n July 3\, 2024 -  Meeting Cancelled\n\n \n\n&nbsp\;\n\nPlease ref
 er to TownofMendon.org for information to attend the meeting via Zoom or t
 o watch it on YouTube.
CATEGORIES:Planning Board Meeting
LOCATION:Mendon Town Hall\, 16 West Main Street\, Honeoye Falls\, New York\
 , 14472\, United States
X-APPLE-STRUCTURED-LOCATION;VALUE=URI;X-ADDRESS=16 West Main Street\, Honeo
 ye Falls\, New York\, 14472\, United States;X-APPLE-RADIUS=100;X-TITLE=Men
 don Town Hall:geo:0,0
END:VEVENT
BEGIN:VTIMEZONE
TZID:America/New_York
X-LIC-LOCATION:America/New_York
BEGIN:DAYLIGHT
DTSTART:20240310T030000
TZOFFSETFROM:-0500
TZOFFSETTO:-0400
TZNAME:EDT
END:DAYLIGHT
END:VTIMEZONE
END:VCALENDAR