BEGIN:VCALENDAR
VERSION:2.0
PRODID:-//wp-events-plugin.com//7.2.3.1//EN
TZID:America/New_York
X-WR-TIMEZONE:America/New_York
BEGIN:VEVENT
UID:1037@townofmendonny.gov
DTSTART;TZID=America/New_York:20240515T190000
DTEND;TZID=America/New_York:20240515T210000
DTSTAMP:20240506T162716Z
URL:https://townofmendonny.gov/events/planning-board-meeting-2-2024-05-15/
SUMMARY:Planning Board Meeting
DESCRIPTION:Approve Minutes from the May 1\, 2024 Planning Board Meeting\n\
 nFERRARO SITE PLAN\nBrian and Rachel Ferraro\, 11 Papermill Street\, Honeo
 ye Falls\, for site plan approval to rebuild their\nsingle-family home des
 troyed by a fire at 2785 Rush Mendon Road\, Mendon\, NY. Tax account numbe
 r:\n214.03-2-2. Zoned RA-1.\n\nPublic Comment\nGeneral Discussion\nUpcomin
 g Meeting Info:\nJune 5\, 2024 – Canceled\, unless rehearing needed.\nJu
 ne 19\, 2024 – Canceled\, as Townhall Closed for Juneteenth. No Meetings
 .\n\nPlease refer to TownofMendon.org for information to attend the meetin
 g via Zoom or watch it on\nYouTube.
CATEGORIES:Planning Board Meeting
LOCATION:Mendon Town Hall\, 16 West Main Street\, Honeoye Falls\, New York\
 , 14472\, United States
X-APPLE-STRUCTURED-LOCATION;VALUE=URI;X-ADDRESS=16 West Main Street\, Honeo
 ye Falls\, New York\, 14472\, United States;X-APPLE-RADIUS=100;X-TITLE=Men
 don Town Hall:geo:0,0
END:VEVENT
BEGIN:VTIMEZONE
TZID:America/New_York
X-LIC-LOCATION:America/New_York
BEGIN:DAYLIGHT
DTSTART:20240310T030000
TZOFFSETFROM:-0500
TZOFFSETTO:-0400
TZNAME:EDT
END:DAYLIGHT
END:VTIMEZONE
END:VCALENDAR