BEGIN:VCALENDAR
VERSION:2.0
PRODID:-//wp-events-plugin.com//7.2.3.1//EN
TZID:America/New_York
X-WR-TIMEZONE:America/New_York
BEGIN:VEVENT
UID:1035@townofmendonny.gov
DTSTART;TZID=America/New_York:20240320T190000
DTEND;TZID=America/New_York:20240320T210000
DTSTAMP:20240307T172325Z
URL:https://townofmendonny.gov/events/planning-board-meeting-2-2024-03-20/
SUMMARY:Planning Board Meeting
DESCRIPTION:Approve Minutes from February 21\, 2024 Planning Board Meeting\
 n\nPROKUPETS SUBDIVISION PUBLIC HEARING\nDaniel Prokupets\, 18 Chamberlain
  Road\, Honeoye Falls\, for a two-lot subdivision on property located on\n
 18 Chamberlain Road\, Honeoye Falls and intersecting Bulls Sawmill Road\, 
 consisting of 33.1 acres. The\napplicant is proposing one 9.2-acre lot and
  one 25.7-acre lot. Tax account no. 215.04-1-4.1. Zoned RA-1.\n\nCAWLEY SU
 BDIVISION AND SITE PLANS\nJoshua Cawley\, 1100 Pittsford Mendon Center Roa
 d\, Honeoye Falls\, NY\, for a two-lot subdivision and\ntwo site plans on 
 property located on Pittsford Mendon Center Road and Topspin Drive\, Honeo
 ye Falls\,\nNY\, consisting of 20 acres and 10.80 acres. Tax account nos. 
 204.02-1-8 and 204.02-1-36. Zoned RA-5.\n\nSALVISKI SITE PLAN\nJames Salvi
 ski\, 342 Smith Road\, Pittsford\, NY\, consisting of 10 acres\, for a 5\,
 000 square-foot storage\nbarn forward of the front of the home. Zoned RA-5
 . Tax account no. 205.01-1-9.31.\n\nPublic Comment\nGeneral Discussion\nUp
 coming Meeting Info:\nApril 3\, 2024- Canceled unless needed for reappeara
 nces.\n\nPlease refer to TownofMendon.org for information to attend the me
 eting via Zoom or to watch it on\nYouTube.
CATEGORIES:Planning Board Meeting
LOCATION:Mendon Town Hall\, 16 West Main Street\, Honeoye Falls\, New York\
 , 14472\, United States
X-APPLE-STRUCTURED-LOCATION;VALUE=URI;X-ADDRESS=16 West Main Street\, Honeo
 ye Falls\, New York\, 14472\, United States;X-APPLE-RADIUS=100;X-TITLE=Men
 don Town Hall:geo:0,0
END:VEVENT
BEGIN:VTIMEZONE
TZID:America/New_York
X-LIC-LOCATION:America/New_York
BEGIN:DAYLIGHT
DTSTART:20240310T030000
TZOFFSETFROM:-0500
TZOFFSETTO:-0400
TZNAME:EDT
END:DAYLIGHT
END:VTIMEZONE
END:VCALENDAR