BEGIN:VCALENDAR
VERSION:2.0
PRODID:-//wp-events-plugin.com//7.2.3.1//EN
TZID:America/New_York
X-WR-TIMEZONE:America/New_York
BEGIN:VEVENT
UID:139@townofmendonny.gov
DTSTART;TZID=America/New_York:20230920T190000
DTEND;TZID=America/New_York:20230920T210000
DTSTAMP:20230918T131313Z
URL:https://townofmendonny.gov/events/planning-board-meeting-18/
SUMMARY:Planning Board Meeting
DESCRIPTION:Approve Minutes from August 16\, 2023 Planning Board Meeting\n\
 nMENDON HEIGHTS SUBDIVISION SKETCH LAYOUT REVIEW\nMendon Heights Estates\,
  LLC. 314 Hollywood Avenue\, Rochester\, NY for a 17-lot cluster developme
 nt\nsubdivision on property located on Mendon Ionia Road directly across f
 rom Langpap Road\, consisting of\n39.91 acres. Tax account no. 231.01-1-2.
  Zoned RA-1.\n\nPublic Comment\n\nGeneral Discussion\n\nUpcoming Meeting I
 nfo:\nOctober 4\, 2023 – McWilliams Subdivision Public Hearing\n– Dona
 ldson\, Jr. Site Plan\nOctober 18\, 2023 – Batterson Phase 3 Subdivision
  Public Hearing\n– Batterson Site Plan/Battle Site Plan Public Hearing\n
 – Ridgecrest Site Plan\n\nPlease refer to TownofMendon.org for informati
 on to attend the meeting via Zoom or to watch it on\nYouTube.
CATEGORIES:Planning Board Meeting
LOCATION:Mendon Town Hall\, 16 West Main Street\, Honeoye Falls\, New York\
 , 14472\, United States
X-APPLE-STRUCTURED-LOCATION;VALUE=URI;X-ADDRESS=16 West Main Street\, Honeo
 ye Falls\, New York\, 14472\, United States;X-APPLE-RADIUS=100;X-TITLE=Men
 don Town Hall:geo:0,0
END:VEVENT
BEGIN:VTIMEZONE
TZID:America/New_York
X-LIC-LOCATION:America/New_York
BEGIN:DAYLIGHT
DTSTART:20230312T030000
TZOFFSETFROM:-0500
TZOFFSETTO:-0400
TZNAME:EDT
END:DAYLIGHT
END:VTIMEZONE
END:VCALENDAR