BEGIN:VCALENDAR
VERSION:2.0
PRODID:-//wp-events-plugin.com//7.2.3.1//EN
TZID:America/New_York
X-WR-TIMEZONE:America/New_York
BEGIN:VEVENT
UID:137@townofmendonny.gov
DTSTART;TZID=America/New_York:20230802T190000
DTEND;TZID=America/New_York:20230802T210000
DTSTAMP:20230724T185840Z
URL:https://townofmendonny.gov/events/planning-board-meeting-16/
SUMMARY:Planning Board Meeting
DESCRIPTION:Approve Minutes from July 19\, 2023 Planning Board Meeting\n\nM
 IKE SILVAROLE SITE PLAN\nMike Silvarole\, 105 Silvarole Drive\, Rochester\
 , NY 14623 to construct a +/- 2\,400 square-foot single-\nfamily home on p
 roperty located at 360 Cheese Factory Road\, Honeoye Falls\, consisting of
  5.96 acres\nsubdivided from parent parcel with tax account no.222.04-1-1.
  Zoned RA-5\n\nKOSCHNICK SPECIAL USE PERMIT PUBLIC HEARING\nRobert J. Kosc
 hnick\, 1411 Fairport Nine Mile Point Road\, Penfield\, NY\, for a Special
  Use Permit to\ncontinue operation of the Oriental Garden Supply on proper
 ty located on 448 West Bloomfield Road\,\nPittsford\, NY\, consisting of 8
 .05 acres. Tax account no. 192.03-1-12.3. Zoned RA-5.\n\nPublic Comment\nG
 eneral Discussion\nUpcoming Meeting Info:\n8/16 – McWilliams Subdivison 
 Sketch Plan Informal Discussion\n– Miller Subdivision and Site Plan Publ
 ic Hearing\n– Kailbourne Site Plan\n\nPlease refer to TownofMendon.org f
 or information to attend the meeting via Zoom or to watch it on\nYouTube.
CATEGORIES:Planning Board Meeting
LOCATION:Mendon Town Hall\, 16 West Main Street\, Honeoye Falls\, New York\
 , 14472\, United States
X-APPLE-STRUCTURED-LOCATION;VALUE=URI;X-ADDRESS=16 West Main Street\, Honeo
 ye Falls\, New York\, 14472\, United States;X-APPLE-RADIUS=100;X-TITLE=Men
 don Town Hall:geo:0,0
END:VEVENT
BEGIN:VTIMEZONE
TZID:America/New_York
X-LIC-LOCATION:America/New_York
BEGIN:DAYLIGHT
DTSTART:20230312T030000
TZOFFSETFROM:-0500
TZOFFSETTO:-0400
TZNAME:EDT
END:DAYLIGHT
END:VTIMEZONE
END:VCALENDAR