BEGIN:VCALENDAR
VERSION:2.0
PRODID:-//wp-events-plugin.com//7.2.3.1//EN
TZID:America/New_York
X-WR-TIMEZONE:America/New_York
BEGIN:VEVENT
UID:136@townofmendonny.gov
DTSTART;TZID=America/New_York:20230816T190000
DTEND;TZID=America/New_York:20230816T210000
DTSTAMP:20230809T154139Z
URL:https://townofmendonny.gov/events/planning-board-meeting-15/
SUMMARY:Planning Board Meeting
DESCRIPTION:AGENDA:\n\nApprove Minutes from August 2\, 2023 Planning Board 
 Meeting\n\nMILLER SUBDIVISION AND SITE PLAN\nJack Miller\, 221 South Wilma
 rth Road\, Pittsford\, NY 14534 for a one-lot subdivision on property loca
 ted\non Pittsford Mendon Road\, Pittsford\, NY\, consisting 31.7 acres and
  subdividing\, one six-acre parcel for\none single-family residence and ha
 s submitted a proposed site plan for approval. Tax account no. 205.01-\n1-
 7.1. Zoned RA-5.\n\nMILLER SUBDIVISION SKETCH PLAN PREAPPLICATION MEETING\
 nDaniel Miller\, 130Wildwood Drive\, Granville\, OH 43023 for a preapplica
 tion meeting with the Planning\nBoard to discuss dividing 30 acres into a 
 20 and a 10-acre parcel on property located at 721 Mile Square\nRoad\, Pit
 tsford. The 10 acres will have a single-family home built in the near futu
 re\, while the 20 acres\nwill remain vacant with the possibility of subdiv
 iding into 5-acre lots. Tax account no. 192.04-1-7. Zoned\nRA-5.\n\nKAILBO
 URNE SITE PLAN\nTroy Kailbourne\, 289 Boughton Hill Road\, Honeoye Falls\,
  to construct a +/- 5\,700 square-foot home with\nan attached three car ga
 rage on property located on Cheese Factory Road. Tax account no. 222.02-14
 -24.\nZoned RA-5.\n\nTHE HAVEN AT WESTMINSTER SHORT-TERM RENTAL PLANNING B
 OARD REVIEW\nAngela Hollick of ASE Havens\, LLC\, 3886 Rush Mendon Road\, 
 Mendon\, NY for property located at\n3880 Rush Mendon Road\, Mendon\, NY\,
  consisting of .33 acres\, for a short-term rental within two units\nhavin
 g up to eighteen (18) overnight guests. Tax account no. 216.07-1-1. Zoned 
 Business District.\n\nPublic Comment\nGeneral Discussion\nUpcoming Meeting
  Info:\nSeptember 6\, 2023 – Canceled\nSeptember 20\, 2023 – Tentative
 \nPlease refer to TownofMendon.org for information to attend the meeting v
 ia Zoom or to watch it on\nYouTube.
CATEGORIES:Planning Board Meeting
LOCATION:Mendon Town Hall\, 16 West Main Street\, Honeoye Falls\, New York\
 , 14472\, United States
X-APPLE-STRUCTURED-LOCATION;VALUE=URI;X-ADDRESS=16 West Main Street\, Honeo
 ye Falls\, New York\, 14472\, United States;X-APPLE-RADIUS=100;X-TITLE=Men
 don Town Hall:geo:0,0
END:VEVENT
BEGIN:VTIMEZONE
TZID:America/New_York
X-LIC-LOCATION:America/New_York
BEGIN:DAYLIGHT
DTSTART:20230312T030000
TZOFFSETFROM:-0500
TZOFFSETTO:-0400
TZNAME:EDT
END:DAYLIGHT
END:VTIMEZONE
END:VCALENDAR