BEGIN:VCALENDAR
VERSION:2.0
PRODID:-//wp-events-plugin.com//7.2.3.1//EN
TZID:America/New_York
X-WR-TIMEZONE:America/New_York
BEGIN:VEVENT
UID:626@townofmendonny.gov
DTSTART;TZID=America/New_York:20231004T190000
DTEND;TZID=America/New_York:20231004T210000
DTSTAMP:20230926T184443Z
URL:https://townofmendonny.gov/events/planning-board-meeting-14/
SUMMARY:Planning Board Meeting
DESCRIPTION:Approve Minutes from September 20\, 2023 Planning Board Meeting
 \n\nMcWILLIAMS SUBDIVISION PUBLIC HEARING\nDaniel McWilliams\, 130 Wildwoo
 d Drive\, Granville\, OH 43023\, for a three-lot subdivision on property\n
 located at 721 Mile Square Road\, Pittsford\, NY\, consisting of 137.42 ac
 res. Tax account no. 192.04-1-7.\nZoned RA-5. The first lot will contain 1
 05.971 acres\; the second lot will contain 10.208 acres\; the third\nlot w
 ill contain 21.241 acres\n\nKOSCHNICK SPECIAL USE PERMIT PUBLIC HEARING 
 – SECOND APPEARANCE\nRobert J. Koschnick\, 1411 Fairport Nine Mile Point
  Road\, Penfield\, NY\, for a Special Use Permit to\ncontinue operation of
  the Oriental Garden Supply on property located on 448 West Bloomfield Roa
 d\,\nPittsford\, NY\, consisting of 8.05 acres. Tax account no. 192.03-1-1
 2.3. Zoned RA-5.\n\nDONALDSON\, JR. SITE PLAN\nScott Donaldson\, Jr\, 140 
 East Street\, Honeoye Falls\, for site plan approval to build a 4\,000 squ
 are foot\nbarn located forward of the front of the home for property locat
 ed at 50 Lanning Road\, Honeoye Falls\,\nNY\, consisting of 26.68 acres. T
 ax account no. 223.01-1-33. Zoned RA-5.\n\nPublic Comment\nGeneral Discuss
 ion\nUpcoming Meeting Info:\nOctober 18\, 2023 – Batterson Phase 3 Subdi
 vision Public Hearing\n– Batterson Site Plan/Battle Site Plan Public Hea
 ring\n– Ridgecrest Site Plan\n\nPlease refer to TownofMendon.org for inf
 ormation to attend the meeting via Zoom or to watch it on\nYouTube.
CATEGORIES:Planning Board Meeting
LOCATION:Mendon Town Hall\, 16 West Main Street\, Honeoye Falls\, New York\
 , 14472\, United States
X-APPLE-STRUCTURED-LOCATION;VALUE=URI;X-ADDRESS=16 West Main Street\, Honeo
 ye Falls\, New York\, 14472\, United States;X-APPLE-RADIUS=100;X-TITLE=Men
 don Town Hall:geo:0,0
END:VEVENT
BEGIN:VTIMEZONE
TZID:America/New_York
X-LIC-LOCATION:America/New_York
BEGIN:DAYLIGHT
DTSTART:20230312T030000
TZOFFSETFROM:-0500
TZOFFSETTO:-0400
TZNAME:EDT
END:DAYLIGHT
END:VTIMEZONE
END:VCALENDAR