BEGIN:VCALENDAR
VERSION:2.0
PRODID:-//wp-events-plugin.com//7.2.3.1//EN
TZID:America/New_York
X-WR-TIMEZONE:America/New_York
BEGIN:VEVENT
UID:132@townofmendonny.gov
DTSTART;TZID=America/New_York:20230607T190000
DTEND;TZID=America/New_York:20230607T210000
DTSTAMP:20230524T190548Z
URL:https://townofmendonny.gov/events/planning-board-meeting-11/
SUMMARY:Planning Board Meeting
DESCRIPTION:Approve Minutes from April 19\, 2023 Planning Board Meeting\n\n
 CAWLEY SUBDIVISION PUBLIC HEARING\nJoshua Cawley\, 1100 Pittsford Mendon C
 enter Road\, Honeoye Falls\, NY\, for a four-lot subdivision on\nproperty 
 located on Pittsford Mendon Center Road and Topspin Drive\, Honeoye Falls\
 , NY\, consisting of\n20 acres and 10.80 acres. Tax account nos. 204.02-1-
 8 and 204.02-1-36. Zoned RA-5.\n\nPublic Comment\nGeneral Discussion\nUpco
 ming Meeting Info:\nJune 21 – Hellems Subdivision/Curran Site Plan\n\nPl
 ease refer to TownofMendon.org for information to attend the meeting via Z
 oom or to watch it on\nYouTube.
CATEGORIES:Planning Board Meeting
LOCATION:Mendon Town Hall\, 16 West Main Street\, Honeoye Falls\, New York\
 , 14472\, United States
X-APPLE-STRUCTURED-LOCATION;VALUE=URI;X-ADDRESS=16 West Main Street\, Honeo
 ye Falls\, New York\, 14472\, United States;X-APPLE-RADIUS=100;X-TITLE=Men
 don Town Hall:geo:0,0
END:VEVENT
BEGIN:VTIMEZONE
TZID:America/New_York
X-LIC-LOCATION:America/New_York
BEGIN:DAYLIGHT
DTSTART:20230312T030000
TZOFFSETFROM:-0500
TZOFFSETTO:-0400
TZNAME:EDT
END:DAYLIGHT
END:VTIMEZONE
END:VCALENDAR