BEGIN:VCALENDAR
VERSION:2.0
PRODID:-//wp-events-plugin.com//7.2.3.1//EN
TZID:America/New_York
X-WR-TIMEZONE:America/New_York
BEGIN:VEVENT
UID:607@townofmendonny.gov
DTSTART;TZID=America/New_York:20230621T190000
DTEND;TZID=America/New_York:20230621T210000
DTSTAMP:20230615T190835Z
URL:https://townofmendonny.gov/events/planning-board-meeting-10/
SUMMARY:Planning Board Meeting
DESCRIPTION:Meeting Agenda\nApprove Minutes from June 7\, 2023 Planning Boa
 rd Meeting\n\nHELLEMS SUBDIVISION/CURRAN SITE PLAN PUBLIC HEARING\nChris a
 nd Maureen Hellems\, 310 Quaker Meeting House Road\, Honeoye Falls\, NY fo
 r a two-lot\nsubdivision on property located on 310 Quaker Meeting House R
 oad\, Honeoye Falls\, NY\, consisting of\n2.515 acres. One lot will be 1.3
 53 acres and one lot will be 1.162. On the 1.162-acre lot\, Jeff and Chels
 ea\nCurran intend to build a single-family home and have submitted a propo
 sed site plan. Tax account no.\n222.01-1-36.12. Zoned RA-1.\n\nCAWLEY SUBD
 IVISION PUBLIC HEARING SECOND APPEARANCE\nJoshua Cawley\, 1100 Pittsford M
 endon Center Road\, Honeoye Falls\, NY\, for a four-lot subdivision on\npr
 operty located on Pittsford Mendon Center Road and Topspin Drive\, Honeoye
  Falls\, NY\, consisting of\n20 acres and 10.80 acres. Tax account nos. 20
 4.02-1-8 and 204.02-1-36. Zoned RA-5.\n\nEQUICENTER SPECIAL USE PERMIT AME
 NDMENT PUBLIC HEARING\nThe Equicenter\, 3247 Rush Mendon Road\, Honeoye Fa
 lls\, for a special use permit amendment for site\nplan approval to expand
  the south barn 16\,000 square feet\, provide a 30-foot wide trail connect
 ion\neasement on the southwest corner of the property\, south of the Lehig
 h Valley Trail\, to Semmel Road Park\nto allow Mendon residents direct acc
 ess to the new recreational area directly from the rail bed\, and to\nincr
 ease the number of participants in the Equicenter programming from six to 
 50 at any given time on\ntheir property at 3247 Rush Mendon Road\, Honeoye
  Falls\, consisting of 200 acres. Tax account no.\n215.03-1-6.1. Zoned RA-
 1.\n\nPublic Comment\n\nGeneral Discussion\n\nUpcoming Meeting Info:\n7/5/
 23 – Canceled\n7/19/23 – Haffen Site Plan\n\nPlease refer to TownofMen
 don.org for information to attend the meeting via Zoom or to watch it on\n
 YouTube.
CATEGORIES:Planning Board Meeting
LOCATION:Mendon Town Hall\, 16 West Main Street\, Honeoye Falls\, New York\
 , 14472\, United States
X-APPLE-STRUCTURED-LOCATION;VALUE=URI;X-ADDRESS=16 West Main Street\, Honeo
 ye Falls\, New York\, 14472\, United States;X-APPLE-RADIUS=100;X-TITLE=Men
 don Town Hall:geo:0,0
END:VEVENT
BEGIN:VTIMEZONE
TZID:America/New_York
X-LIC-LOCATION:America/New_York
BEGIN:DAYLIGHT
DTSTART:20230312T030000
TZOFFSETFROM:-0500
TZOFFSETTO:-0400
TZNAME:EDT
END:DAYLIGHT
END:VTIMEZONE
END:VCALENDAR