BEGIN:VCALENDAR
VERSION:2.0
PRODID:-//wp-events-plugin.com//7.2.3.1//EN
TZID:America/New_York
X-WR-TIMEZONE:America/New_York
BEGIN:VEVENT
UID:580@townofmendonny.gov
DTSTART;TZID=America/New_York;VALUE=DATE:20230220
DTEND;TZID=America/New_York;VALUE=DATE:20230221
DTSTAMP:20230215T170303Z
URL:https://townofmendonny.gov/events/office-closed-presidents-day/
SUMMARY:Office Closed - Presidents' day
DESCRIPTION:
END:VEVENT
BEGIN:VTIMEZONE
TZID:America/New_York
X-LIC-LOCATION:America/New_York
BEGIN:STANDARD
DTSTART:20221106T010000
TZOFFSETFROM:-0400
TZOFFSETTO:-0500
TZNAME:EST
END:STANDARD
END:VTIMEZONE
END:VCALENDAR