BEGIN:VCALENDAR
VERSION:2.0
PRODID:-//wp-events-plugin.com//7.2.3.1//EN
TZID:America/New_York
X-WR-TIMEZONE:America/New_York
BEGIN:VEVENT
UID:594@townofmendonny.gov
DTSTART;TZID=America/New_York:20230327T190000
DTEND;TZID=America/New_York:20230327T200000
DTSTAMP:20230327T195148Z
URL:https://townofmendonny.gov/events/march-27-2023-special-town-board-mee
 ting/
SUMMARY:March 27\, 2023 - Special Town Board Meeting
DESCRIPTION:Special Meeting Agenda\n\n 	Call to Order\n 	Pledge of Allegian
 ce\n 	Agenda\n 	Public Comment\n 	Budget Transfers\n 	Public Hearing - Tow
 n of Mendon Comprehensive Plan - amendment\n 	Public Comment\n 	Adjournmen
 t\n\nINFORMATIONAL PACKAGE
CATEGORIES:Town Board Meeting
LOCATION:Mendon Town Hall\, 16 West Main Street\, Honeoye Falls\, New York\
 , 14472\, United States
X-APPLE-STRUCTURED-LOCATION;VALUE=URI;X-ADDRESS=16 West Main Street\, Honeo
 ye Falls\, New York\, 14472\, United States;X-APPLE-RADIUS=100;X-TITLE=Men
 don Town Hall:geo:0,0
END:VEVENT
BEGIN:VTIMEZONE
TZID:America/New_York
X-LIC-LOCATION:America/New_York
BEGIN:DAYLIGHT
DTSTART:20230312T030000
TZOFFSETFROM:-0500
TZOFFSETTO:-0400
TZNAME:EDT
END:DAYLIGHT
END:VTIMEZONE
END:VCALENDAR