BEGIN:VCALENDAR
VERSION:2.0
PRODID:-//wp-events-plugin.com//7.2.3.1//EN
TZID:America/New_York
X-WR-TIMEZONE:America/New_York
BEGIN:VEVENT
UID:595@townofmendonny.gov
DTSTART;TZID=America/New_York:20230329T190000
DTEND;TZID=America/New_York:20230329T210000
DTSTAMP:20230406T121204Z
URL:https://townofmendonny.gov/events/joint-special-meeting/
SUMMARY:Joint Special Meeting
DESCRIPTION:JOINT SPECIAL MEETING\nWITH THE MENDON FIRE DISTRCT AND THE VIL
 LAGE OF HONEOYE FALLS\n1. Call to Order\n2. Pledge of Allegiance\n3. Agend
 a\n4. Presentation of the Town of Mendon Citizens Advisory Committee Chair
 \, Muffy Meisenzahl\n5. Questions and Comments from the Commissioners\, Vi
 llage\, and Town Officials\n6. Questions and Comments from residents\n7. A
 djournment\n\nMarch 29\, 2023 - Joint Meeting information
CATEGORIES:Town Board Meeting
LOCATION:Mendon Fire Hall\, 101 Mendon - Ionia Rd\, Mendon \, NY\, 14472\, 
 United States
X-APPLE-STRUCTURED-LOCATION;VALUE=URI;X-ADDRESS=101 Mendon - Ionia Rd\, Men
 don \, NY\, 14472\, United States;X-APPLE-RADIUS=100;X-TITLE=Mendon Fire H
 all:geo:0,0
END:VEVENT
BEGIN:VTIMEZONE
TZID:America/New_York
X-LIC-LOCATION:America/New_York
BEGIN:DAYLIGHT
DTSTART:20230312T030000
TZOFFSETFROM:-0500
TZOFFSETTO:-0400
TZNAME:EDT
END:DAYLIGHT
END:VTIMEZONE
END:VCALENDAR