BEGIN:VCALENDAR
VERSION:2.0
PRODID:-//wp-events-plugin.com//7.2.3.1//EN
TZID:America/New_York
X-WR-TIMEZONE:America/New_York
BEGIN:VEVENT
UID:616@townofmendonny.gov
DTSTART;TZID=America/New_York:20230808T120000
DTEND;TZID=America/New_York:20230808T150000
DTSTAMP:20230725T160013Z
URL:https://townofmendonny.gov/events/honeoye-falls-mendon-sr-citizen-picn
 ic-noon/
SUMMARY:Honeoye Falls-Mendon Sr. Citizen Picnic - NOON
DESCRIPTION:Honeoye Falls-Mendon Sr. Citizen Picnic is in the Community Cen
 ter Pavilion.  Members are asked to bring a dish to pass\, table service
  and beverage.  The club will provide hot dogs and dessert.
LOCATION:Mendon Community Center\, 167 North Main St\, Honeoye Falls\, New 
 York\, 14472\, United States
X-APPLE-STRUCTURED-LOCATION;VALUE=URI;X-ADDRESS=167 North Main St\, Honeoye
  Falls\, New York\, 14472\, United States;X-APPLE-RADIUS=100;X-TITLE=Mendo
 n Community Center:geo:0,0
END:VEVENT
BEGIN:VTIMEZONE
TZID:America/New_York
X-LIC-LOCATION:America/New_York
BEGIN:DAYLIGHT
DTSTART:20230312T030000
TZOFFSETFROM:-0500
TZOFFSETTO:-0400
TZNAME:EDT
END:DAYLIGHT
END:VTIMEZONE
END:VCALENDAR