BEGIN:VCALENDAR
VERSION:2.0
PRODID:-//wp-events-plugin.com//7.2.3.1//EN
TZID:America/New_York
X-WR-TIMEZONE:America/New_York
BEGIN:VEVENT
UID:605@townofmendonny.gov
DTSTART;TZID=America/New_York:20230711T190000
DTEND;TZID=America/New_York:20230711T200000
DTSTAMP:20230710T181830Z
URL:https://townofmendonny.gov/events/historic-preservation-commission-spe
 cial-meeting/
SUMMARY:Historic Preservation Commission
DESCRIPTION:Town of Mendon Historic Preservation Commission\n\nMeeting Agen
 da for July 11\, 2023\nTown Hall Courtroom\, 7PM\n16 W. Main St. Honeoye F
 alls 14472\n\nThe Commission is meeting to discuss the following agenda it
 ems:\n• Status of the updated and submitted EPOD5 map and spreadsheet.\n
 • Status of Mendon Ponds Park 500’ buffer on EPOD 5 map.\n• Martha B
 ush: Notes from Landmark Society Seminars\n• Possible Lockhart C of A re
  73 Taylor Rd. follow up\n• Letter to owners of HPC Designated Houses\n
 • Town Board Liaison’s Report\n• Town Historian’s Report\nRespectf
 ully submitted by Geoff Tesch\nChairman\, Historic Preservation Commission
 \nTown of Mendon\, New York
CATEGORIES:Historic Preservation Commission Meeting
LOCATION:Mendon Town Hall\, 16 West Main Street\, Honeoye Falls\, New York\
 , 14472\, United States
X-APPLE-STRUCTURED-LOCATION;VALUE=URI;X-ADDRESS=16 West Main Street\, Honeo
 ye Falls\, New York\, 14472\, United States;X-APPLE-RADIUS=100;X-TITLE=Men
 don Town Hall:geo:0,0
END:VEVENT
BEGIN:VTIMEZONE
TZID:America/New_York
X-LIC-LOCATION:America/New_York
BEGIN:DAYLIGHT
DTSTART:20230312T030000
TZOFFSETFROM:-0500
TZOFFSETTO:-0400
TZNAME:EDT
END:DAYLIGHT
END:VTIMEZONE
END:VCALENDAR