BEGIN:VCALENDAR
VERSION:2.0
PRODID:-//wp-events-plugin.com//7.2.3.1//EN
TZID:America/New_York
X-WR-TIMEZONE:America/New_York
BEGIN:VEVENT
UID:1194@townofmendonny.gov
DTSTART;TZID=America/New_York:20251001T190000
DTEND;TZID=America/New_York:20251001T200000
DTSTAMP:20250930T192005Z
URL:https://townofmendonny.gov/events/historic-preservation-commission-mee
 ting-8/
SUMMARY:Historic Preservation Commission Meeting
DESCRIPTION:Town of Mendon Historic Preservation Commission\nMeeting Agenda
  for October 1\, 2025\nTown Hall Courtroom\, 7 PM\n16 W. Main St. Honeoye 
 Falls 14472\nThe Commission is meeting to discuss the following agenda ite
 ms:\n\n 	Review August 2025 Minutes.\n 	Review Orban Subdivision Applicati
 on\n 	Diane Ham\, Town Historian Report\n 	Jim Merzke\, Town Liaison Repor
 t\n\nRespectfully submitted by Geoff Tesch\n\nChairman\, Historic Preserva
 tion Commission\n\nTown of Mendon\, New York\n\n&nbsp\;
CATEGORIES:Historic Preservation Commission Meeting
END:VEVENT
BEGIN:VTIMEZONE
TZID:America/New_York
X-LIC-LOCATION:America/New_York
BEGIN:DAYLIGHT
DTSTART:20250309T030000
TZOFFSETFROM:-0500
TZOFFSETTO:-0400
TZNAME:EDT
END:DAYLIGHT
END:VTIMEZONE
END:VCALENDAR