BEGIN:VCALENDAR
VERSION:2.0
PRODID:-//wp-events-plugin.com//7.2.3.1//EN
TZID:America/New_York
X-WR-TIMEZONE:America/New_York
BEGIN:VEVENT
UID:1164@townofmendonny.gov
DTSTART;TZID=America/New_York:20250402T190000
DTEND;TZID=America/New_York:20250402T200000
DTSTAMP:20250401T173957Z
URL:https://townofmendonny.gov/events/historic-preservation-commission-mee
 ting-3/
SUMMARY:Historic Preservation Commission Meeting - Cancelled
DESCRIPTION:&nbsp\;\n\nThere is no agenda.
CATEGORIES:Historic Preservation Commission Meeting
END:VEVENT
BEGIN:VTIMEZONE
TZID:America/New_York
X-LIC-LOCATION:America/New_York
BEGIN:DAYLIGHT
DTSTART:20250309T030000
TZOFFSETFROM:-0500
TZOFFSETTO:-0400
TZNAME:EDT
END:DAYLIGHT
END:VTIMEZONE
END:VCALENDAR