BEGIN:VCALENDAR
VERSION:2.0
PRODID:-//wp-events-plugin.com//7.2.3.1//EN
TZID:America/New_York
X-WR-TIMEZONE:America/New_York
BEGIN:VEVENT
UID:1077@townofmendonny.gov
DTSTART;TZID=America/New_York:20240612T190000
DTEND;TZID=America/New_York:20240612T200000
DTSTAMP:20240611T170148Z
URL:https://townofmendonny.gov/events/historic-preservation-commission-mee
 ting-2024-06-05/
SUMMARY:Historic Preservation Commission Meeting
DESCRIPTION:Meeting Agenda for June 12\, 2024\nTown Hall Courtroom\, 7PM\n1
 6 W. Main St. Honeoye Falls 14472\n\nThe Commission is meeting to discuss 
 the following agenda items:\n• Review April 2024 Minutes.\n• *Time Sen
 sitive: Review and discussion regarding the Ferraro Site Plan Application 
 to the Planning Board.\n• Martha Bush: Takeaways from the Statewide Pres
 ervation Conference in April\n• Update of HPC Member assignments and pr
 ogress reports.\n• Status regarding the evolving spreadsheets re Case Ma
 nagement and prospective new HPC designated properties.\n• New: An exist
 ing HPC designated property is listed for sale.\n• Tom DuBois Town Liais
 on Report\n• Town Historian’s Report\nRespectfully submitted by Geoff 
 Tesch\nChairman\, Historic Preservation Commission\nTown of Mendon\, New Y
 ork
CATEGORIES:Historic Preservation Commission Meeting
END:VEVENT
BEGIN:VTIMEZONE
TZID:America/New_York
X-LIC-LOCATION:America/New_York
BEGIN:DAYLIGHT
DTSTART:20240310T030000
TZOFFSETFROM:-0500
TZOFFSETTO:-0400
TZNAME:EDT
END:DAYLIGHT
END:VTIMEZONE
END:VCALENDAR