BEGIN:VCALENDAR
VERSION:2.0
PRODID:-//wp-events-plugin.com//7.2.3.1//EN
TZID:America/New_York
X-WR-TIMEZONE:America/New_York
BEGIN:VEVENT
UID:1075@townofmendonny.gov
DTSTART;TZID=America/New_York:20240403T190000
DTEND;TZID=America/New_York:20240403T200000
DTSTAMP:20240402T145423Z
URL:https://townofmendonny.gov/events/historic-preservation-commission-mee
 ting-2024-04-03/
SUMMARY:Historic Preservation Commission Meeting
DESCRIPTION:The Commission is meeting to discuss the following agenda items
 :\n\n• Review March 2024 Minutes.\n• Update of HPC Member assignments 
 and progress reports.\n• Status regarding the evolving spreadsheets re C
 ase Management and prospective new HPC-designated properties.\n• Tom DuB
 ois Town Liaison Report\n• Town Historian’s Report\n\nRespectfully sub
 mitted by Geoff Tesch\nChairman\, Historic Preservation Commission\nTown o
 f Mendon\, New York
CATEGORIES:Historic Preservation Commission Meeting
LOCATION:Mendon Town Hall\, 16 West Main Street\, Honeoye Falls\, New York\
 , 14472\, United States
X-APPLE-STRUCTURED-LOCATION;VALUE=URI;X-ADDRESS=16 West Main Street\, Honeo
 ye Falls\, New York\, 14472\, United States;X-APPLE-RADIUS=100;X-TITLE=Men
 don Town Hall:geo:0,0
END:VEVENT
BEGIN:VTIMEZONE
TZID:America/New_York
X-LIC-LOCATION:America/New_York
BEGIN:DAYLIGHT
DTSTART:20240310T030000
TZOFFSETFROM:-0500
TZOFFSETTO:-0400
TZNAME:EDT
END:DAYLIGHT
END:VTIMEZONE
END:VCALENDAR