BEGIN:VCALENDAR
VERSION:2.0
PRODID:-//wp-events-plugin.com//7.2.3.1//EN
TZID:America/New_York
X-WR-TIMEZONE:America/New_York
BEGIN:VEVENT
UID:1073@townofmendonny.gov
DTSTART;TZID=America/New_York:20240207T190000
DTEND;TZID=America/New_York:20240207T200000
DTSTAMP:20240206T170921Z
URL:https://townofmendonny.gov/events/historic-preservation-commission-mee
 ting-2024-02-07/
SUMMARY:Historic Preservation Commission Meeting
DESCRIPTION:The Commission is meeting to discuss the following agenda items
 :\n\n• Review January 2024 Minutes.\n• Discussion of HPC Member assign
 ments and progress reports.\n• Discussion regarding the evolving spreads
 heets re: Case\nManagement and prospective new HPC-designated properties.\
 n• Discussion: WNY Landmark Society Statewide Preservation\n\nConference
  4/15/24-4/17/24.\n• Town Liaison Report (if someone has been appointed 
 )\n• Town Historian’s Report\n\nRespectfully submitted by Geoff Tesch\
 nChairman\, Historic Preservation Commission\nTown of Mendon\, New York
CATEGORIES:Historic Preservation Commission Meeting
END:VEVENT
BEGIN:VTIMEZONE
TZID:America/New_York
X-LIC-LOCATION:America/New_York
BEGIN:STANDARD
DTSTART:20231105T010000
TZOFFSETFROM:-0400
TZOFFSETTO:-0500
TZNAME:EST
END:STANDARD
END:VTIMEZONE
END:VCALENDAR