BEGIN:VCALENDAR
VERSION:2.0
PRODID:-//wp-events-plugin.com//7.2.3.1//EN
TZID:America/New_York
X-WR-TIMEZONE:America/New_York
BEGIN:VEVENT
UID:1072@townofmendonny.gov
DTSTART;TZID=America/New_York:20240103T190000
DTEND;TZID=America/New_York:20240103T200000
DTSTAMP:20240102T193248Z
URL:https://townofmendonny.gov/events/historic-preservation-commission-mee
 ting-2024-01-03/
SUMMARY:Historic Preservation Commission Meeting
DESCRIPTION:Town of Mendon Historic Preservation Commission\nMeeting Agenda
  for January 3\, 2024\nTown Hall Courtroom\, 7PM\n16 W. Main St. Honeoye F
 alls 14472\nThe Commission is meeting to discuss the following agenda item
 s:\n• Review November 2023 Minutes.\n• Discussion of HPC Member assign
 ments.\n• Review and discussion regarding the new Cawley subdivision\nap
 plication to the Town of Mendon Planning Board.\n• Town Historian’s Re
 port\n\nRespectfully submitted by Geoff Tesch\nChairman\, Historic Preserv
 ation Commission\nTown of Mendon\, New York
CATEGORIES:Historic Preservation Commission Meeting
LOCATION:Mendon Town Hall\, 16 West Main Street\, Honeoye Falls\, New York\
 , 14472\, United States
X-APPLE-STRUCTURED-LOCATION;VALUE=URI;X-ADDRESS=16 West Main Street\, Honeo
 ye Falls\, New York\, 14472\, United States;X-APPLE-RADIUS=100;X-TITLE=Men
 don Town Hall:geo:0,0
END:VEVENT
BEGIN:VTIMEZONE
TZID:America/New_York
X-LIC-LOCATION:America/New_York
BEGIN:STANDARD
DTSTART:20231105T010000
TZOFFSETFROM:-0400
TZOFFSETTO:-0500
TZNAME:EST
END:STANDARD
END:VTIMEZONE
END:VCALENDAR