BEGIN:VCALENDAR
VERSION:2.0
PRODID:-//wp-events-plugin.com//7.2.3.1//EN
TZID:America/New_York
X-WR-TIMEZONE:America/New_York
BEGIN:VEVENT
UID:622@townofmendonny.gov
DTSTART;TZID=America/New_York:20230906T190000
DTEND;TZID=America/New_York:20230906T200000
DTSTAMP:20230905T163123Z
URL:https://townofmendonny.gov/events/historic-preservation-commission-8/
SUMMARY:Historic Preservation Commission
DESCRIPTION:The Commission is meeting to discuss the following agenda items
 :\n\n• Martha Bush: Recap of 7/26/23 meeting with John Moffitt and Brent
  Rosiek re revised EPOD 5 map and related Town Code\n• Review and voting
  re Dudley/Beatty (3335 Rush Mendon Rd.) C of A application.\n• Review a
 nd discussion re The Haven at Westminster - Hollick STR Application\, and 
 new local Short Term Rental law.\n• Town Board Liaison’s Report\n• T
 own Historian’s Report\n\nRespectfully submitted by Geoff Tesch\nChairma
 n\, Historic Preservation Commission\nTown of Mendon\, New York
CATEGORIES:Historic Preservation Commission Meeting
LOCATION:Mendon Town Hall\, 16 West Main Street\, Honeoye Falls\, New York\
 , 14472\, United States
X-APPLE-STRUCTURED-LOCATION;VALUE=URI;X-ADDRESS=16 West Main Street\, Honeo
 ye Falls\, New York\, 14472\, United States;X-APPLE-RADIUS=100;X-TITLE=Men
 don Town Hall:geo:0,0
END:VEVENT
BEGIN:VTIMEZONE
TZID:America/New_York
X-LIC-LOCATION:America/New_York
BEGIN:DAYLIGHT
DTSTART:20230312T030000
TZOFFSETFROM:-0500
TZOFFSETTO:-0400
TZNAME:EDT
END:DAYLIGHT
END:VTIMEZONE
END:VCALENDAR