BEGIN:VCALENDAR
VERSION:2.0
PRODID:-//wp-events-plugin.com//7.2.3.1//EN
TZID:America/New_York
X-WR-TIMEZONE:America/New_York
BEGIN:VEVENT
UID:600@townofmendonny.gov
DTSTART;TZID=America/New_York:20230508T190000
DTEND;TZID=America/New_York:20230508T200000
DTSTAMP:20230504T161714Z
URL:https://townofmendonny.gov/events/historic-preservation-commission-6/
SUMMARY:Historic Preservation Commission - Special Meeting
DESCRIPTION:The Commission is meeting to discuss the following agenda items
 :\n\n• Continuation of Lockhart Certificate of Appropriateness Applicat
 ion review regarding 73 Taylor Rd.\n\nRespectfully submitted by Geoff Tesc
 h\nChairman\, Historic Preservation Commission\nTown of Mendon\, New York
CATEGORIES:Historic Preservation Commission Meeting
LOCATION:Mendon Community Center\, 167 North Main St\, Honeoye Falls\, New 
 York\, 14472\, United States
X-APPLE-STRUCTURED-LOCATION;VALUE=URI;X-ADDRESS=167 North Main St\, Honeoye
  Falls\, New York\, 14472\, United States;X-APPLE-RADIUS=100;X-TITLE=Mendo
 n Community Center:geo:0,0
END:VEVENT
BEGIN:VTIMEZONE
TZID:America/New_York
X-LIC-LOCATION:America/New_York
BEGIN:DAYLIGHT
DTSTART:20230312T030000
TZOFFSETFROM:-0500
TZOFFSETTO:-0400
TZNAME:EDT
END:DAYLIGHT
END:VTIMEZONE
END:VCALENDAR