BEGIN:VCALENDAR
VERSION:2.0
PRODID:-//wp-events-plugin.com//7.2.3.1//EN
TZID:America/New_York
X-WR-TIMEZONE:America/New_York
BEGIN:VEVENT
UID:597@townofmendonny.gov
DTSTART;TZID=America/New_York:20230405T190000
DTEND;TZID=America/New_York:20230405T200000
DTSTAMP:20230404T150104Z
URL:https://townofmendonny.gov/events/historic-preservation-commission-5/
SUMMARY:Historic Preservation Commission
DESCRIPTION:The Commission is meeting to discuss the following agenda items
 :\n\n• Review\, commentary\, and voting re March 1\, 2023 meeting\nminut
 es.\n• Review EPOD5 corrections process and progress\, discuss and vote\
 nto submit to Monroe County GIS services.\n• Reminder letter to owners o
 f HPC designated properties\, and\ndiscussion of when enforcement would be
  required.\n• Town Board Liaison’s Report\n• Town Historian’s Repo
 rt\n\nRespectfully submitted by Geoff Tesch\nChairman\, Historic Preservat
 ion Commission\nTown of Mendon\, New York
CATEGORIES:Historic Preservation Commission Meeting
LOCATION:Mendon Town Hall\, 16 West Main Street\, Honeoye Falls\, New York\
 , 14472\, United States
X-APPLE-STRUCTURED-LOCATION;VALUE=URI;X-ADDRESS=16 West Main Street\, Honeo
 ye Falls\, New York\, 14472\, United States;X-APPLE-RADIUS=100;X-TITLE=Men
 don Town Hall:geo:0,0
END:VEVENT
BEGIN:VTIMEZONE
TZID:America/New_York
X-LIC-LOCATION:America/New_York
BEGIN:DAYLIGHT
DTSTART:20230312T030000
TZOFFSETFROM:-0500
TZOFFSETTO:-0400
TZNAME:EDT
END:DAYLIGHT
END:VTIMEZONE
END:VCALENDAR