BEGIN:VCALENDAR
VERSION:2.0
PRODID:-//wp-events-plugin.com//7.2.3.1//EN
TZID:America/New_York
X-WR-TIMEZONE:America/New_York
BEGIN:VEVENT
UID:581@townofmendonny.gov
DTSTART;TZID=America/New_York:20230301T000000
DTEND;TZID=America/New_York:20230301T000000
DTSTAMP:20230228T171422Z
URL:https://townofmendonny.gov/events/historic-preservation-commission-4/
SUMMARY:Historic Preservation Commission
DESCRIPTION:Meeting Agenda for March 1\, 2023\nTown Hall Courtroom\, 7PM\n1
 6 W. Main St. Honeoye Falls 14472\n\nThe Commission is meeting to discuss 
 the following agenda items:\n• Review\, commentary\, and voting re Janua
 ry 4\, 2023 meeting\nminutes.\n• Welcome new HPC member: Martha Bush!\n
 • Review EPOD5 corrections from 11/19/2021 to submit to\nMonroe County G
 IS services.\n• Town Board Liaison’s Report\n• Town Historian’s Re
 port\nRespectfully submitted by Geoff Tesch\nChairman\, Historic Preservat
 ion Commission\nTown of Mendon\, New York
CATEGORIES:Historic Preservation Commission Meeting
LOCATION:Mendon Town Hall\, 16 West Main Street\, Honeoye Falls\, New York\
 , 14472\, United States
X-APPLE-STRUCTURED-LOCATION;VALUE=URI;X-ADDRESS=16 West Main Street\, Honeo
 ye Falls\, New York\, 14472\, United States;X-APPLE-RADIUS=100;X-TITLE=Men
 don Town Hall:geo:0,0
END:VEVENT
BEGIN:VTIMEZONE
TZID:America/New_York
X-LIC-LOCATION:America/New_York
BEGIN:STANDARD
DTSTART:20221106T010000
TZOFFSETFROM:-0400
TZOFFSETTO:-0500
TZNAME:EST
END:STANDARD
END:VTIMEZONE
END:VCALENDAR