BEGIN:VCALENDAR
VERSION:2.0
PRODID:-//wp-events-plugin.com//7.2.3.1//EN
TZID:America/New_York
X-WR-TIMEZONE:America/New_York
BEGIN:VEVENT
UID:576@townofmendonny.gov
DTSTART;TZID=America/New_York:20230201T190000
DTEND;TZID=America/New_York:20230201T200000
DTSTAMP:20230131T175634Z
URL:https://townofmendonny.gov/events/historic-preservation-commission-3/
SUMMARY:Historic Preservation Commission
DESCRIPTION:Meeting Agenda for February 1\, 2023\nMendon Town Hall Courtroo
 m\, 7PM\n16 W. Main St. Honeoye Falls 14472\nThe Commission is meeting to 
 discuss the following agenda items:\n\n 	Welcome new HPC member: Martha Bu
 sh!\n 	Review\, commentary\, and voting re January 4\, 2023 meeting minute
 s.\n 	Review pending and possible designations.\n 	Review EPOD5 correction
 s from 11/19/2021 to submit to Monroe County GIS services.\n 	Town Board L
 iaison’s Report\n 	Town Historian’s Report\n\nRespectfully submitted b
 y Geoff Tesch\nChairman\, Historic Preservation Commission\nTown of Mendon
 \, New York
CATEGORIES:Historic Preservation Commission Meeting
LOCATION:Mendon Town Hall\, 16 West Main Street\, Honeoye Falls\, New York\
 , 14472\, United States
X-APPLE-STRUCTURED-LOCATION;VALUE=URI;X-ADDRESS=16 West Main Street\, Honeo
 ye Falls\, New York\, 14472\, United States;X-APPLE-RADIUS=100;X-TITLE=Men
 don Town Hall:geo:0,0
END:VEVENT
BEGIN:VTIMEZONE
TZID:America/New_York
X-LIC-LOCATION:America/New_York
BEGIN:STANDARD
DTSTART:20221106T010000
TZOFFSETFROM:-0400
TZOFFSETTO:-0500
TZNAME:EST
END:STANDARD
END:VTIMEZONE
END:VCALENDAR