BEGIN:VCALENDAR
VERSION:2.0
PRODID:-//wp-events-plugin.com//7.2.3.1//EN
TZID:America/New_York
X-WR-TIMEZONE:America/New_York
BEGIN:VEVENT
UID:177@townofmendonny.gov
DTSTART;TZID=America/New_York:20230104T190000
DTEND;TZID=America/New_York:20230104T200000
DTSTAMP:20230103T203656Z
URL:https://townofmendonny.gov/events/historic-preservation-commission-2/
SUMMARY:Historic Preservation Commission Meeting
DESCRIPTION:Town of Mendon Historic Preservation Commission\n\nMeeting Agen
 da for January 4\, 2023\nTown Hall Courtroom\, 7PM\n16 W. Main St. Honeoye
  Falls 14472\n\nThe Commission is meeting to discuss the following agenda 
 items:\n• Review\, commentary\, and voting re November 2\, 2022 meeting\
 nminutes.\n• Review\, commentary\, and voting re December 7\, 2022 meeti
 ng\nminutes.\n• Status of updated designated property owners list\, and 
 new letter\nto homeowners.\n• Town Board Liaison’s Report\n• Town Hi
 storian’s Report\nRespectfully submitted by Geoff Tesch\nChairman\, Hist
 oric Preservation Commission\nTown of Mendon\, New York
CATEGORIES:Historic Preservation Commission Meeting
LOCATION:Mendon Town Hall\, 16 West Main Street\, Honeoye Falls\, New York\
 , 14472\, United States
X-APPLE-STRUCTURED-LOCATION;VALUE=URI;X-ADDRESS=16 West Main Street\, Honeo
 ye Falls\, New York\, 14472\, United States;X-APPLE-RADIUS=100;X-TITLE=Men
 don Town Hall:geo:0,0
END:VEVENT
BEGIN:VTIMEZONE
TZID:America/New_York
X-LIC-LOCATION:America/New_York
BEGIN:STANDARD
DTSTART:20221106T010000
TZOFFSETFROM:-0400
TZOFFSETTO:-0500
TZNAME:EST
END:STANDARD
END:VTIMEZONE
END:VCALENDAR