BEGIN:VCALENDAR
VERSION:2.0
PRODID:-//wp-events-plugin.com//7.2.3.1//EN
TZID:America/New_York
X-WR-TIMEZONE:America/New_York
BEGIN:VEVENT
UID:634@townofmendonny.gov
DTSTART;TZID=America/New_York:20231101T190000
DTEND;TZID=America/New_York:20231101T200000
DTSTAMP:20231031T153335Z
URL:https://townofmendonny.gov/events/historic-preservation-commission-10/
SUMMARY:Historic Preservation Commission
DESCRIPTION:Town of Mendon Historic Preservation Commission\nMeeting Agenda
  for November 1\, 2023\nTown Hall Courtroom\, 7PM\n16 W. Main St. Honeoye 
 Falls 14472\nThe Commission is meeting to discuss the following agenda ite
 ms:\n• Update regarding Dudley/Beatty (3335 Rush Mendon Rd.) C of A\napp
 lication.\n• Update regarding Barben (983 W. Bloomfield Rd.)) C of A\nap
 plication.\n• Review\, discussion\, and voting regarding Scott Bureau’
 s (21\nMendon-Ionia Rd.) C of A application.\n• Discussion of HPC Member
  assignments\n• Town Historian’s Report\n\nRespectfully submitted by G
 eoff Tesch\nChairman\, Historic Preservation Commission\nTown of Mendon\, 
 New York
CATEGORIES:Historic Preservation Commission Meeting
LOCATION:Mendon Town Hall\, 16 West Main Street\, Honeoye Falls\, New York\
 , 14472\, United States
X-APPLE-STRUCTURED-LOCATION;VALUE=URI;X-ADDRESS=16 West Main Street\, Honeo
 ye Falls\, New York\, 14472\, United States;X-APPLE-RADIUS=100;X-TITLE=Men
 don Town Hall:geo:0,0
END:VEVENT
BEGIN:VTIMEZONE
TZID:America/New_York
X-LIC-LOCATION:America/New_York
BEGIN:DAYLIGHT
DTSTART:20230312T030000
TZOFFSETFROM:-0500
TZOFFSETTO:-0400
TZNAME:EDT
END:DAYLIGHT
END:VTIMEZONE
END:VCALENDAR