BEGIN:VCALENDAR
VERSION:2.0
PRODID:-//wp-events-plugin.com//7.2.3.1//EN
TZID:America/New_York
X-WR-TIMEZONE:America/New_York
BEGIN:VEVENT
UID:172@townofmendonny.gov
DTSTART;TZID=America/New_York;VALUE=DATE:20230110
DTEND;TZID=America/New_York;VALUE=DATE:20230111
DTSTAMP:20221227T132116Z
URL:https://townofmendonny.gov/events/hf-mendon-sr-citizens-meeting/
SUMMARY:HF-Mendon Sr. Citizens Meeting
DESCRIPTION:The next HF-Mendon Sr. Citizens meeting is scheduled for Januar
 y 10\, at noon in the Mendon Community Center. Please bring a lunch. Our g
 uest speaker is Kim Roberts\, Director of Community Programs at HFL Centra
 l School. She will speak about Community Programs that offer enrichment cl
 asses to students and adults in our community.  She will discuss some of 
 the opportunities available and would welcome feedback from the group as t
 o what district residents would like to see available. A 50/50 Raffle will
  be available.\n\n\n*As a reminder\, beginning with the January 10th meeti
 ng\, the first meeting of each month is a business meeting\; the second me
 eting each month (January 24) will be strictly social to include Bingo\, 
 board games\, cards\, etc.\n
LOCATION:Mendon Community Center\, 167 North Main St\, Honeoye Falls\, New 
 York\, 14472\, United States
X-APPLE-STRUCTURED-LOCATION;VALUE=URI;X-ADDRESS=167 North Main St\, Honeoye
  Falls\, New York\, 14472\, United States;X-APPLE-RADIUS=100;X-TITLE=Mendo
 n Community Center:geo:0,0
END:VEVENT
BEGIN:VTIMEZONE
TZID:America/New_York
X-LIC-LOCATION:America/New_York
BEGIN:STANDARD
DTSTART:20221106T010000
TZOFFSETFROM:-0400
TZOFFSETTO:-0500
TZNAME:EST
END:STANDARD
END:VTIMEZONE
END:VCALENDAR