BEGIN:VCALENDAR
VERSION:2.0
PRODID:-//wp-events-plugin.com//7.2.3.1//EN
TZID:America/New_York
X-WR-TIMEZONE:America/New_York
BEGIN:VEVENT
UID:105@townofmendonny.gov
DTSTART;TZID=America/New_York:20220914T190000
DTEND;TZID=America/New_York:20220914T200000
DTSTAMP:20220913T170051Z
URL:https://townofmendonny.gov/events/fire-protection-service-committee-me
 eting-5/
SUMMARY:Fire Protection Service Committee Meeting
DESCRIPTION:Meeting Agenda\n1. Call to Order\n2. Pledge of Allegiance\n3. H
 ousekeeping Items\n4. Committee Member and Guest Recognition\n5. Meeting M
 inutes: August 10\, 2022\n6. Committee Organization:\n\n 	NYS Open Meeting
 s Law: Meeting Schedule\; record availability\n 	Notebooks\n 	Communicatio
 n\n\n7. Committee Charge:\n\n 	Task #1. Identify governance framework and 
 current capacities: reports &amp\; polling\n\nSTATUS – governance and ju
 risdictions: Plans &amp\; Studies\, Municipal Resources\ncurrent capacitie
 s: HFFD\, MEND\, M/Asstistance\, MCWA\n\n 	Task #2. Complete a needs asses
 sment for Fire Protection within the Town: reports &amp\; polling\n 	Task 
 #3. Report on current capacities and recommend sustainment models commensu
 rate with the needs assessment\n\n8. Other:\n\n 	Committee Roundtable\n 	R
 esearch &amp\;amp\; Assignment Review:\n\n9. Public Comment\n\nNEXT MEETIN
 G: September 28\, 2022\n\nInformational documents:\n\nComprehensive Plans 
 and Studies\n\nMunicipal Resources\n\nMutual Assistance Agreements\n\nMCWA
LOCATION:Mendon Community Center\, 167 North Main St\, Honeoye Falls\, New 
 York\, 14472\, United States
X-APPLE-STRUCTURED-LOCATION;VALUE=URI;X-ADDRESS=167 North Main St\, Honeoye
  Falls\, New York\, 14472\, United States;X-APPLE-RADIUS=100;X-TITLE=Mendo
 n Community Center:geo:0,0
END:VEVENT
BEGIN:VTIMEZONE
TZID:America/New_York
X-LIC-LOCATION:America/New_York
BEGIN:DAYLIGHT
DTSTART:20220313T030000
TZOFFSETFROM:-0500
TZOFFSETTO:-0400
TZNAME:EDT
END:DAYLIGHT
END:VTIMEZONE
END:VCALENDAR