BEGIN:VCALENDAR
VERSION:2.0
PRODID:-//wp-events-plugin.com//7.2.3.1//EN
TZID:America/New_York
X-WR-TIMEZONE:America/New_York
BEGIN:VEVENT
UID:104@townofmendonny.gov
DTSTART;TZID=America/New_York:20220824T190000
DTEND;TZID=America/New_York:20220824T200000
DTSTAMP:20220822T192706Z
URL:https://townofmendonny.gov/events/fire-protection-service-committee-me
 eting-4/
SUMMARY:Fire Protection Service Committee Meeting
DESCRIPTION:1. Call to Order\n2. Pledge of Allegiance\n3. Housekeeping Item
 s\n4. Committee Member and Guest Recognition\n5. Meeting Minutes: August 1
 0\, 2022\n6. Committee Organization:\n*NYS Open Meetings Law: Meeting Sche
 dule\; record availability\n*Notebooks\n*Communication\n7. Committee Charg
 e:\n* Task #1. Identify governance framework and current capacities: repor
 ts &amp\; polling\n\nSTATUS – governance and jurisdictions\ncurrent capa
 cities\n\n* Task #2. Complete a needs assessment for Fire Protection withi
 n the Town: reports &amp\; polling\n\n* Task #3. Report on current capacit
 ies and recommend sustainment models commensurate with the needs assessmen
 t\n\n8. Other:\n* Committee Roundtable\n* Research &amp\; Assignment Revie
 w\n\n9. Public Comment\n\nNEXT MEETING: September 14\, 2022\n\nRisks - Nat
 ural Features &amp\; Built Landscape\n\nMeeting Schedule Proposal
LOCATION:Mendon Community Center\, 167 North Main St\, Honeoye Falls\, New 
 York\, 14472\, United States
X-APPLE-STRUCTURED-LOCATION;VALUE=URI;X-ADDRESS=167 North Main St\, Honeoye
  Falls\, New York\, 14472\, United States;X-APPLE-RADIUS=100;X-TITLE=Mendo
 n Community Center:geo:0,0
END:VEVENT
BEGIN:VTIMEZONE
TZID:America/New_York
X-LIC-LOCATION:America/New_York
BEGIN:DAYLIGHT
DTSTART:20220313T030000
TZOFFSETFROM:-0500
TZOFFSETTO:-0400
TZNAME:EDT
END:DAYLIGHT
END:VTIMEZONE
END:VCALENDAR