BEGIN:VCALENDAR
VERSION:2.0
PRODID:-//wp-events-plugin.com//7.2.3.1//EN
TZID:America/New_York
X-WR-TIMEZONE:America/New_York
BEGIN:VEVENT
UID:103@townofmendonny.gov
DTSTART;TZID=America/New_York:20220810T190000
DTEND;TZID=America/New_York:20220810T200000
DTSTAMP:20220808T200024Z
URL:https://townofmendonny.gov/events/fire-protection-service-committee-me
 eting-3/
SUMMARY:Fire Protection Service Committee Meeting
DESCRIPTION:Town of Mendon Citizens Advisory Committee For Fire Service Pr
 actices\n\n 	 Call to Order\n 	 Pledge of Allegiance\n 	 Housekeeping Item
 s\n 	 Committee Member and Guest Recognition\n 	 Meeting Minutes:  July 2
 7\, 2022\n 	 Committee Organization:\n\n\n 	\n\n 	NYS Open Meetings Law: 
  Meeting Schedule\; record availability\n 	Notebooks\n 	Communication\n\n\
 n\n\n 	 Committee Charge:\n\n\n 	\n\n 	Task #1.  Identify governance fram
 ework and current capacities:  reports &amp\; polling\n\n\n\n        
                                  STATUS – governance an
 d jurisdictions    \n\n                                
                          current capacities\n\n 	\n\n 	Task #
 2.  Complete a needs assessment for Fire Protection within the Town:  re
 ports &amp\;     polling\n 	Task #3.  Report on current capacities and r
 ecommend sustainment models  commensurate with the needs assessment\n\n\n
 \n\n 	 Other:\n\n\n 	\n\n 	Committee Roundtable\n 	Research &amp\; Assignm
 ent Review\n\n\n\n\n 	 Public Comment\n\nNEXT MEETING:  August 24\, 2022\
 n\nInformational Documents: \n\nCAC Fire Svc - Electronic copies for Aug 
 10\, 2022 Mtg\n\nTown Board Mtg Minutes - March 7\, 1935
LOCATION:Mendon Community Center\, 167 North Main St\, Honeoye Falls\, New 
 York\, 14472\, United States
X-APPLE-STRUCTURED-LOCATION;VALUE=URI;X-ADDRESS=167 North Main St\, Honeoye
  Falls\, New York\, 14472\, United States;X-APPLE-RADIUS=100;X-TITLE=Mendo
 n Community Center:geo:0,0
END:VEVENT
BEGIN:VTIMEZONE
TZID:America/New_York
X-LIC-LOCATION:America/New_York
BEGIN:DAYLIGHT
DTSTART:20220313T030000
TZOFFSETFROM:-0500
TZOFFSETTO:-0400
TZNAME:EDT
END:DAYLIGHT
END:VTIMEZONE
END:VCALENDAR