BEGIN:VCALENDAR
VERSION:2.0
PRODID:-//wp-events-plugin.com//7.2.3.1//EN
TZID:America/New_York
X-WR-TIMEZONE:America/New_York
BEGIN:VEVENT
UID:102@townofmendonny.gov
DTSTART;TZID=America/New_York:20220727T190000
DTEND;TZID=America/New_York:20220727T200000
DTSTAMP:20220726T191816Z
URL:https://townofmendonny.gov/events/fire-protection-service-committee-me
 eting-2/
SUMMARY:Fire Protection Service Committee Meeting
DESCRIPTION:Town of Mendon Citizens Advisory Committee\nFor Fire Service Pr
 actices\nMeeting Agenda:  July 27\, 2022\, 7:00 p.m.\n\n167 North Main St
 reet\, Honeoye Falls\n\n 	 Call to Order\n 	 Pledge of Allegiance\n 	 Hous
 ekeeping Items\n 	 Committee Member and Guest Recognition\n 	 Meeting Minu
 tes:  July13\, 2022\n 	 Committee Organization:       \n\n 	NYS Open 
 Meetings Law: Meeting Schedule\; record availability \n 	Notebooks:  Ro
 ster up-date\; other materials \n 	Communication\n\n\n\n7. Committee Char
 ge:\n\n 	\n\n 	Task #1.  Identify governance framework and current capaci
 ties:  reports &amp\; polling \n\n 	STATUS – governance and jurisdictio
 ns\n 	  current capacities\n\n\n 	Task #2.  Complete a needs assessment
  for Fire Protection within the Town:  polling\n 	Task #3.  Report on cu
 rrent capacities and recommend sustainment models  com-     \n\n 	mensur
 ate with the needs assessment\n\n\n\n\n\n8. Other:\n\n 	\n\n 	Committee Ro
 undtable\n 	Research &amp\; Assignment Review\n\n\n\n9. Public Comment\n\n
 NEXT MEETING:  August 10\, 2022
LOCATION:Mendon Community Center\, 167 North Main St\, Honeoye Falls\, New 
 York\, 14472\, United States
X-APPLE-STRUCTURED-LOCATION;VALUE=URI;X-ADDRESS=167 North Main St\, Honeoye
  Falls\, New York\, 14472\, United States;X-APPLE-RADIUS=100;X-TITLE=Mendo
 n Community Center:geo:0,0
END:VEVENT
BEGIN:VTIMEZONE
TZID:America/New_York
X-LIC-LOCATION:America/New_York
BEGIN:DAYLIGHT
DTSTART:20220313T030000
TZOFFSETFROM:-0500
TZOFFSETTO:-0400
TZNAME:EDT
END:DAYLIGHT
END:VTIMEZONE
END:VCALENDAR