BEGIN:VCALENDAR
VERSION:2.0
PRODID:-//wp-events-plugin.com//7.2.3.1//EN
TZID:America/New_York
X-WR-TIMEZONE:America/New_York
BEGIN:VEVENT
UID:174@townofmendonny.gov
DTSTART;TZID=America/New_York:20230208T190000
DTEND;TZID=America/New_York:20230208T200000
DTSTAMP:20230207T221953Z
URL:https://townofmendonny.gov/events/fire-protection-service-committee-me
 eting-14/
SUMMARY:Fire Protection Service Committee Meeting
DESCRIPTION:Town of Mendon Citizens Advisory Committee\n\nFor Fire Service 
 Practices\n\nMeeting Agenda: February 8\, 2023\, 7:00 p.m.\n167 North Main
  Street\, Honeoye Falls\n\n1. Call to Order\n2. Pledge of Allegiance\n3. H
 ousekeeping Items\n4. Committee Member and Guest Recognition\n5. Meeting M
 inutes: January 25\, 2023\n6. Committee Organization:\n\n 	NYS Open Meetin
 gs Law: Meeting Schedule\; record availability\n 	Communication: MEND corp
 orate status\; Mendon Town Board Meeting\, March 13th\n 	Review: FORWARD s
 ections of the Report\; Chapter 1 DRAFT\n\n7. Committee Charge:\n\n 	Task 
 #1. Identify governance framework and current capacities: reports &amp\; p
 olling \n\nSTATUS – governance and jurisdictions: Chapter 2 DRAFT (with 
 Figures)\n\ncurrent capacities: Chapter 3 DRAFT (with Figures &amp\; Appen
 dices)\n\n 	Task #2. Complete a needs assessment for Fire Protection withi
 n the Town: reports &amp\;\n\n                        polling:
  Chapter 4 DRAFT (with Figures &amp\; Appendices)\n\n 	Task #3. Report on 
 current capacities and recommend sustainment models com-\nmensurate with t
 he needs assessment: reports &amp\; polling: Chapter 5 DRAFT\;\nChapter 6 
 DRAFT\; Chapter 7 DRAFT\, Figures 7-3. and 7-4.\n\n8. Other:\n\n 	Committe
 e Roundtable\n 	Next and Final Meeting\n\n9. Public Comment\n\nNEXT MEETIN
 G: February 22\, 2023
LOCATION:Mendon Community Center\, 167 North Main St\, Honeoye Falls\, New 
 York\, 14472\, United States
X-APPLE-STRUCTURED-LOCATION;VALUE=URI;X-ADDRESS=167 North Main St\, Honeoye
  Falls\, New York\, 14472\, United States;X-APPLE-RADIUS=100;X-TITLE=Mendo
 n Community Center:geo:0,0
END:VEVENT
BEGIN:VTIMEZONE
TZID:America/New_York
X-LIC-LOCATION:America/New_York
BEGIN:STANDARD
DTSTART:20221106T010000
TZOFFSETFROM:-0400
TZOFFSETTO:-0500
TZNAME:EST
END:STANDARD
END:VTIMEZONE
END:VCALENDAR