BEGIN:VCALENDAR
VERSION:2.0
PRODID:-//wp-events-plugin.com//7.2.3.1//EN
TZID:America/New_York
X-WR-TIMEZONE:America/New_York
BEGIN:VEVENT
UID:577@townofmendonny.gov
DTSTART;TZID=America/New_York:20230207T190000
DTEND;TZID=America/New_York:20230207T200000
DTSTAMP:20230206T134624Z
URL:https://townofmendonny.gov/events/environmental-conservation-board-mee
 ting/
SUMMARY:Environmental Conservation Board Meeting
DESCRIPTION:Meeting Agenda\nTuesday\, February 7th\, 2023\n1. Call to Order
 \n2. Approval of Past Minutes – December 6th\, 2022\n3. New Business\n\n
 \n 	ECB Overview/Purpose and 2023 Goals\n 	Anderson Site Plan\n 	Hampson S
 ite Plan\n\n4. Monroe County Environmental Management Council Updates – 
 David Wetter\n5. Town Board Updates – Tom Dubois\n6. Meeting Adjournment
 \n\nNext meeting: Tuesday\, March 7th\, 2023\, 7:00 PM
LOCATION:Mendon Town Hall\, 16 West Main Street\, Honeoye Falls\, New York\
 , 14472\, United States
X-APPLE-STRUCTURED-LOCATION;VALUE=URI;X-ADDRESS=16 West Main Street\, Honeo
 ye Falls\, New York\, 14472\, United States;X-APPLE-RADIUS=100;X-TITLE=Men
 don Town Hall:geo:0,0
END:VEVENT
BEGIN:VTIMEZONE
TZID:America/New_York
X-LIC-LOCATION:America/New_York
BEGIN:STANDARD
DTSTART:20221106T010000
TZOFFSETFROM:-0400
TZOFFSETTO:-0500
TZNAME:EST
END:STANDARD
END:VTIMEZONE
END:VCALENDAR