BEGIN:VCALENDAR
VERSION:2.0
PRODID:-//wp-events-plugin.com//7.2.3.1//EN
TZID:America/New_York
X-WR-TIMEZONE:America/New_York
BEGIN:VEVENT
UID:621@townofmendonny.gov
DTSTART;TZID=America/New_York:20230905T190000
DTEND;TZID=America/New_York:20230905T200000
DTSTAMP:20230904T173132Z
URL:https://townofmendonny.gov/events/environmental-conservation-board-mee
 ting-7/
SUMMARY:Environmental Conservation Board Meeting
DESCRIPTION:Town of Mendon Environmental Conservation Board\nMeeting Agenda
  Tuesday\, September 5th\, 2023\n\n1. Call to Order\n2. Approval of Past M
 inutes – August 1st\, 2023\n3. New Business\n\n 	 McWilliams Subdivisio
 n\n 	 The Haven at Westminster Short-Term Rental Application\n 	 Batters
 on Subdivision\, Phase 3\n\n4. Monroe County Environmental Management Coun
 cil Updates – David Wetter\n5. Town Board Updates – Tom Dubois\n6. Mee
 ting Adjournment\n\nNext meeting: Tuesday\, October 2nd\, 2023\, 7:00 PM
CATEGORIES:Environmental Conservation Board Meeting
LOCATION:Mendon Town Hall\, 16 West Main Street\, Honeoye Falls\, New York\
 , 14472\, United States
X-APPLE-STRUCTURED-LOCATION;VALUE=URI;X-ADDRESS=16 West Main Street\, Honeo
 ye Falls\, New York\, 14472\, United States;X-APPLE-RADIUS=100;X-TITLE=Men
 don Town Hall:geo:0,0
END:VEVENT
BEGIN:VTIMEZONE
TZID:America/New_York
X-LIC-LOCATION:America/New_York
BEGIN:DAYLIGHT
DTSTART:20230312T030000
TZOFFSETFROM:-0500
TZOFFSETTO:-0400
TZNAME:EDT
END:DAYLIGHT
END:VTIMEZONE
END:VCALENDAR